BEGIN:VCALENDAR
VERSION:2.0
PRODID:-//Santillana del Mar Turismo - ECPv6.15.11//NONSGML v1.0//EN
CALSCALE:GREGORIAN
METHOD:PUBLISH
X-ORIGINAL-URL:https://santillanadelmarturismo.com
X-WR-CALDESC:Eventos para Santillana del Mar Turismo
REFRESH-INTERVAL;VALUE=DURATION:PT1H
X-Robots-Tag:noindex
X-PUBLISHED-TTL:PT1H
BEGIN:VTIMEZONE
TZID:Europe/Madrid
BEGIN:DAYLIGHT
TZOFFSETFROM:+0100
TZOFFSETTO:+0200
TZNAME:CEST
DTSTART:20160327T010000
END:DAYLIGHT
BEGIN:STANDARD
TZOFFSETFROM:+0200
TZOFFSETTO:+0100
TZNAME:CET
DTSTART:20161030T010000
END:STANDARD
BEGIN:DAYLIGHT
TZOFFSETFROM:+0100
TZOFFSETTO:+0200
TZNAME:CEST
DTSTART:20170326T010000
END:DAYLIGHT
BEGIN:STANDARD
TZOFFSETFROM:+0200
TZOFFSETTO:+0100
TZNAME:CET
DTSTART:20171029T010000
END:STANDARD
BEGIN:DAYLIGHT
TZOFFSETFROM:+0100
TZOFFSETTO:+0200
TZNAME:CEST
DTSTART:20180325T010000
END:DAYLIGHT
BEGIN:STANDARD
TZOFFSETFROM:+0200
TZOFFSETTO:+0100
TZNAME:CET
DTSTART:20181028T010000
END:STANDARD
END:VTIMEZONE
BEGIN:VEVENT
DTSTART;TZID=Europe/Madrid:20171224T150000
DTEND;TZID=Europe/Madrid:20171224T150000
DTSTAMP:20260424T234328
CREATED:20171222T182001Z
LAST-MODIFIED:20171222T182002Z
UID:4404-1514127600-1514127600@santillanadelmarturismo.com
SUMMARY:VI Milla Piedrestre Solidaria
DESCRIPTION:24 de diciembre de 2017.\n Salida infantil: 16:30 h\n Salida Senior: 17:00 h. \nInscripciones y taller de dorsales desde las 15:00 h. en el Restaurante «El Pasaje de Los Nobles» a cambio de 1 kg de comida (no perecederos)\, Los alimentos serán entregados a familiares en riesgo de exclusión social.\n Al final de la prueba habrá sorteo de regalos.
URL:https://santillanadelmarturismo.com/evento/vi-milla-piedrestre-solidaria/
CATEGORIES:Deporte,Destacados,Turismo
ATTACH;FMTTYPE=image/jpeg:https://santillanadelmarturismo.com/wp-content/uploads/2017_Milla_cartel_final.jpg
END:VEVENT
END:VCALENDAR