BEGIN:VCALENDAR
VERSION:2.0
PRODID:-//Santillana del Mar Turismo - ECPv6.15.11//NONSGML v1.0//EN
CALSCALE:GREGORIAN
METHOD:PUBLISH
X-WR-CALNAME:Santillana del Mar Turismo
X-ORIGINAL-URL:https://santillanadelmarturismo.com
X-WR-CALDESC:Eventos para Santillana del Mar Turismo
REFRESH-INTERVAL;VALUE=DURATION:PT1H
X-Robots-Tag:noindex
X-PUBLISHED-TTL:PT1H
BEGIN:VTIMEZONE
TZID:Europe/Madrid
BEGIN:DAYLIGHT
TZOFFSETFROM:+0100
TZOFFSETTO:+0200
TZNAME:CEST
DTSTART:20170326T010000
END:DAYLIGHT
BEGIN:STANDARD
TZOFFSETFROM:+0200
TZOFFSETTO:+0100
TZNAME:CET
DTSTART:20171029T010000
END:STANDARD
BEGIN:DAYLIGHT
TZOFFSETFROM:+0100
TZOFFSETTO:+0200
TZNAME:CEST
DTSTART:20180325T010000
END:DAYLIGHT
BEGIN:STANDARD
TZOFFSETFROM:+0200
TZOFFSETTO:+0100
TZNAME:CET
DTSTART:20181028T010000
END:STANDARD
BEGIN:DAYLIGHT
TZOFFSETFROM:+0100
TZOFFSETTO:+0200
TZNAME:CEST
DTSTART:20190331T010000
END:DAYLIGHT
BEGIN:STANDARD
TZOFFSETFROM:+0200
TZOFFSETTO:+0100
TZNAME:CET
DTSTART:20191027T010000
END:STANDARD
END:VTIMEZONE
BEGIN:VEVENT
DTSTART;TZID=Europe/Madrid:20180519T130000
DTEND;TZID=Europe/Madrid:20180519T190000
DTSTAMP:20260424T151608
CREATED:20180517T172002Z
LAST-MODIFIED:20180517T172002Z
UID:4599-1526734800-1526756400@santillanadelmarturismo.com
SUMMARY:Campeonato de Gimnasia Rítmica
DESCRIPTION:a las 13:00 horas – CAMPEONATO PROMOCIÓN \na las 16:30 horas – CAMPEONATO TECNIFICACIÓN
URL:https://santillanadelmarturismo.com/evento/campeonato-de-gimnasia-ritmica/
LOCATION:Pabellón municipal\, Barrio Camplengo s/n\, Santillana del Mar\, Cantabria\, 39330\, España
CATEGORIES:Deporte,Destacados,Turismo
ATTACH;FMTTYPE=image/jpeg:https://santillanadelmarturismo.com/wp-content/uploads/CARTEL-GIMNASIA-RITMICA-19-MAYO_web-Large.jpg
END:VEVENT
END:VCALENDAR