BEGIN:VCALENDAR
VERSION:2.0
PRODID:-//Santillana del Mar Turismo - ECPv6.15.11//NONSGML v1.0//EN
CALSCALE:GREGORIAN
METHOD:PUBLISH
X-ORIGINAL-URL:https://santillanadelmarturismo.com
X-WR-CALDESC:Eventos para Santillana del Mar Turismo
REFRESH-INTERVAL;VALUE=DURATION:PT1H
X-Robots-Tag:noindex
X-PUBLISHED-TTL:PT1H
BEGIN:VTIMEZONE
TZID:Europe/Madrid
BEGIN:DAYLIGHT
TZOFFSETFROM:+0100
TZOFFSETTO:+0200
TZNAME:CEST
DTSTART:20230326T010000
END:DAYLIGHT
BEGIN:STANDARD
TZOFFSETFROM:+0200
TZOFFSETTO:+0100
TZNAME:CET
DTSTART:20231029T010000
END:STANDARD
BEGIN:DAYLIGHT
TZOFFSETFROM:+0100
TZOFFSETTO:+0200
TZNAME:CEST
DTSTART:20240331T010000
END:DAYLIGHT
BEGIN:STANDARD
TZOFFSETFROM:+0200
TZOFFSETTO:+0100
TZNAME:CET
DTSTART:20241027T010000
END:STANDARD
BEGIN:DAYLIGHT
TZOFFSETFROM:+0100
TZOFFSETTO:+0200
TZNAME:CEST
DTSTART:20250330T010000
END:DAYLIGHT
BEGIN:STANDARD
TZOFFSETFROM:+0200
TZOFFSETTO:+0100
TZNAME:CET
DTSTART:20251026T010000
END:STANDARD
END:VTIMEZONE
BEGIN:VEVENT
DTSTART;TZID=Europe/Madrid:20240615T190000
DTEND;TZID=Europe/Madrid:20240630T200000
DTSTAMP:20260423T035910
CREATED:20240610T095828Z
LAST-MODIFIED:20240610T095828Z
UID:11964-1718478000-1719777600@santillanadelmarturismo.com
SUMMARY:Exposición de Javier Ros en el Museo Jesús Otero
DESCRIPTION:La exposición itinerante ‘Cerámica\, naturaleza y llamas’ aterrizará el Museo Jesús Otero de Santillana del Mar el próximo 15 de junio. Esta obra narra las pasiones del artista revitalizadas tras un incendio. \nRespecto a los horarios de la sala\, estos serán los habituales de entrada\, es decir\, de lunes a sábado en horario de mañana de 10.00 horas a 13.30\, y por la tarde de 16.00 a 20.00 horas. El domingo sin embargo solo tendrá horario de mañana de 10.00 a 14.00 horas.
URL:https://santillanadelmarturismo.com/evento/exposicion-de-javier-ros-en-el-museo-jesus-otero/
CATEGORIES:General,Turismo
ATTACH;FMTTYPE=image/jpeg:https://santillanadelmarturismo.com/wp-content/uploads/Museo-fundacion-Jesus-Otero-1-400x233-1.jpg
END:VEVENT
END:VCALENDAR