BEGIN:VCALENDAR
VERSION:2.0
PRODID:-//Santillana del Mar Turismo - ECPv6.15.11//NONSGML v1.0//EN
CALSCALE:GREGORIAN
METHOD:PUBLISH
X-ORIGINAL-URL:https://santillanadelmarturismo.com
X-WR-CALDESC:Eventos para Santillana del Mar Turismo
REFRESH-INTERVAL;VALUE=DURATION:PT1H
X-Robots-Tag:noindex
X-PUBLISHED-TTL:PT1H
BEGIN:VTIMEZONE
TZID:Europe/Madrid
BEGIN:DAYLIGHT
TZOFFSETFROM:+0100
TZOFFSETTO:+0200
TZNAME:CEST
DTSTART:20230326T010000
END:DAYLIGHT
BEGIN:STANDARD
TZOFFSETFROM:+0200
TZOFFSETTO:+0100
TZNAME:CET
DTSTART:20231029T010000
END:STANDARD
BEGIN:DAYLIGHT
TZOFFSETFROM:+0100
TZOFFSETTO:+0200
TZNAME:CEST
DTSTART:20240331T010000
END:DAYLIGHT
BEGIN:STANDARD
TZOFFSETFROM:+0200
TZOFFSETTO:+0100
TZNAME:CET
DTSTART:20241027T010000
END:STANDARD
BEGIN:DAYLIGHT
TZOFFSETFROM:+0100
TZOFFSETTO:+0200
TZNAME:CEST
DTSTART:20250330T010000
END:DAYLIGHT
BEGIN:STANDARD
TZOFFSETFROM:+0200
TZOFFSETTO:+0100
TZNAME:CET
DTSTART:20251026T010000
END:STANDARD
END:VTIMEZONE
BEGIN:VEVENT
DTSTART;TZID=Europe/Madrid:20240901T000000
DTEND;TZID=Europe/Madrid:20240915T235959
DTSTAMP:20260422T225248
CREATED:20240829T172003Z
LAST-MODIFIED:20240829T172003Z
UID:12046-1725148800-1726444799@santillanadelmarturismo.com
SUMMARY:Exposición 'DesvaríoS' de Yuga en el Museo Jesús Otero
DESCRIPTION:Este 1 de septiembre será el turno del artista Yuga\, que aterrizará en el museo julianense el domingo con su exposición ‘DesvaríoS’. Dicha muestra tiene un estilo surrealista\, tanto es así que el autor se define como «creador de espacios y paisajes imposibles».\n\n \n\n\nAl igual que todas las muestras que han ido pasando por Santillana del Mar a lo largo de la primavera y el verano\, ‘DesvaríoS’ permanecerá 15 días expuesta en los horarios habituales del museo (de lunes a domingo de 10.30 a 13.30 horas\, y de 17 a 21 horas) con acceso libre y gratuito.\n\n\n \nPor su parte\, la inauguración de la exposición será este domingo a las 19 horas\, y contará con la presencia de Yuga\, así como de miembros de la corporación municipal del Ayuntamiento de Santillana del Mar.\n\n\n \n\n\n¡Os animamos a todos a pasaros por el Jesús Otero y darle a la imaginación con el surrealismo de Yuga!
URL:https://santillanadelmarturismo.com/evento/exposicion-desvarios-de-yuga-en-el-museo-jesus-otero-2/
CATEGORIES:Cultura,Destacados,Turismo
ATTACH;FMTTYPE=image/png:https://santillanadelmarturismo.com/wp-content/uploads/CARTEL-YUGA-400x578-2.png
END:VEVENT
BEGIN:VEVENT
DTSTART;VALUE=DATE:20240916
DTEND;VALUE=DATE:20241001
DTSTAMP:20260422T225248
CREATED:20240918T104644Z
LAST-MODIFIED:20240918T104644Z
UID:12063-1726444800-1727740799@santillanadelmarturismo.com
SUMMARY:Exposición 'Como es adentro es afuera' de Felipe Alberto Muñoz en el Museo Jesús Otero
DESCRIPTION:El 16 de septiembre arranca una nueva exposición en el Museo Jesús Otero del artista cántabro Felipe Alberto Muñoz\, que aterrizará en Santillana con ‘Como es adentro es afuera’\, una propuesta de expresionismo figurativo y abstracción que representa los «paisajes interiores y estados anímicos» del autor.\n\n\n¡Por cierto! El horario del Jesús Otero ya ha cambiado al de invierno y ha pasado a ser de lunes a sábado de 10 a 13.30 horas\, y de 16 a 20 horas. En el caso del domingo\, este se reduce y pasa a ser de 10 a 14 horas.
URL:https://santillanadelmarturismo.com/evento/exposicion-como-es-adentro-es-afuera-de-felipe-alberto-munoz-en-el-museo-jesus-otero/
CATEGORIES:Cultura,General,Turismo
ATTACH;FMTTYPE=image/png:https://santillanadelmarturismo.com/wp-content/uploads/Cartel-Alberto-320x202-1.png
END:VEVENT
BEGIN:VEVENT
DTSTART;TZID=Europe/Madrid:20240916T000000
DTEND;TZID=Europe/Madrid:20240930T235959
DTSTAMP:20260422T225248
CREATED:20240918T172002Z
LAST-MODIFIED:20240918T172002Z
UID:12069-1726444800-1727740799@santillanadelmarturismo.com
SUMMARY:Exposición 'Como es adentro es afuera' de Felipe Alberto Muñoz en el Museo Jesús Otero
DESCRIPTION:El 16 de septiembre arranca una nueva exposición en el Museo Jesús Otero del artista cántabro Felipe Alberto Muñoz\, que aterrizará en Santillana con ‘Como es adentro es afuera’\, una propuesta de expresionismo figurativo y abstracción que representa los «paisajes interiores y estados anímicos» del autor.\n\n¡Por cierto! El horario del Jesús Otero ya ha cambiado al de invierno y ha pasado a ser de lunes a sábado de 10 a 13.30 horas\, y de 16 a 20 horas. En el caso del domingo\, este se reduce y pasa a ser de 10 a 14 horas.
URL:https://santillanadelmarturismo.com/evento/exposicion-como-es-adentro-es-afuera-de-felipe-alberto-munoz-en-el-museo-jesus-otero-2/
CATEGORIES:Cultura,Turismo
ATTACH;FMTTYPE=image/png:https://santillanadelmarturismo.com/wp-content/uploads/Cartel-Alberto-320x202-1.png
END:VEVENT
END:VCALENDAR