BEGIN:VCALENDAR
VERSION:2.0
PRODID:-//Santillana del Mar Turismo - ECPv6.15.11//NONSGML v1.0//EN
CALSCALE:GREGORIAN
METHOD:PUBLISH
X-WR-CALNAME:Santillana del Mar Turismo
X-ORIGINAL-URL:https://santillanadelmarturismo.com
X-WR-CALDESC:Eventos para Santillana del Mar Turismo
REFRESH-INTERVAL;VALUE=DURATION:PT1H
X-Robots-Tag:noindex
X-PUBLISHED-TTL:PT1H
BEGIN:VTIMEZONE
TZID:Europe/Madrid
BEGIN:DAYLIGHT
TZOFFSETFROM:+0100
TZOFFSETTO:+0200
TZNAME:CEST
DTSTART:20210328T010000
END:DAYLIGHT
BEGIN:STANDARD
TZOFFSETFROM:+0200
TZOFFSETTO:+0100
TZNAME:CET
DTSTART:20211031T010000
END:STANDARD
BEGIN:DAYLIGHT
TZOFFSETFROM:+0100
TZOFFSETTO:+0200
TZNAME:CEST
DTSTART:20220327T010000
END:DAYLIGHT
BEGIN:STANDARD
TZOFFSETFROM:+0200
TZOFFSETTO:+0100
TZNAME:CET
DTSTART:20221030T010000
END:STANDARD
BEGIN:DAYLIGHT
TZOFFSETFROM:+0100
TZOFFSETTO:+0200
TZNAME:CEST
DTSTART:20230326T010000
END:DAYLIGHT
BEGIN:STANDARD
TZOFFSETFROM:+0200
TZOFFSETTO:+0100
TZNAME:CET
DTSTART:20231029T010000
END:STANDARD
END:VTIMEZONE
BEGIN:VEVENT
DTSTART;TZID=Europe/Madrid:20220422T203000
DTEND;TZID=Europe/Madrid:20220422T213000
DTSTAMP:20260425T184856
CREATED:20220316T100048Z
LAST-MODIFIED:20220316T100048Z
UID:11158-1650659400-1650663000@santillanadelmarturismo.com
SUMMARY:Marcha Solidaria en favor de la Asociación Española Contra el Cáncer
DESCRIPTION:El Ayuntamiento de Santillana del Mar\, en colaboración con la Asociación de Fiestas de Vispieres ha organizado una marcha solidaria en favor de la Asociación Española Contra el Cáncer. \nEl acto tendrá lugar el próximo 22 de abril a las 20.45 horas. \nEn cuanto al recorrido\, éste comenzará en la pista polideportiva de Vispieres\, y en un total de 6 kilómetros\, los participantes subirán al Castillo de Vispieres y regresarán a la pista polideportiva. \n \n 
URL:https://santillanadelmarturismo.com/evento/marcha-solidaria-en-favor-de-la-asociacion-espanola-contra-el-cancer/
CATEGORIES:Destacados,Turismo
ATTACH;FMTTYPE=image/png:https://santillanadelmarturismo.com/wp-content/uploads/MARCHA-SOLIDARIA-1.png
END:VEVENT
END:VCALENDAR