BEGIN:VCALENDAR
VERSION:2.0
PRODID:-//Santillana del Mar Turismo - ECPv6.15.11//NONSGML v1.0//EN
CALSCALE:GREGORIAN
METHOD:PUBLISH
X-ORIGINAL-URL:https://santillanadelmarturismo.com
X-WR-CALDESC:Eventos para Santillana del Mar Turismo
REFRESH-INTERVAL;VALUE=DURATION:PT1H
X-Robots-Tag:noindex
X-PUBLISHED-TTL:PT1H
BEGIN:VTIMEZONE
TZID:Europe/Madrid
BEGIN:DAYLIGHT
TZOFFSETFROM:+0100
TZOFFSETTO:+0200
TZNAME:CEST
DTSTART:20210328T010000
END:DAYLIGHT
BEGIN:STANDARD
TZOFFSETFROM:+0200
TZOFFSETTO:+0100
TZNAME:CET
DTSTART:20211031T010000
END:STANDARD
BEGIN:DAYLIGHT
TZOFFSETFROM:+0100
TZOFFSETTO:+0200
TZNAME:CEST
DTSTART:20220327T010000
END:DAYLIGHT
BEGIN:STANDARD
TZOFFSETFROM:+0200
TZOFFSETTO:+0100
TZNAME:CET
DTSTART:20221030T010000
END:STANDARD
BEGIN:DAYLIGHT
TZOFFSETFROM:+0100
TZOFFSETTO:+0200
TZNAME:CEST
DTSTART:20230326T010000
END:DAYLIGHT
BEGIN:STANDARD
TZOFFSETFROM:+0200
TZOFFSETTO:+0100
TZNAME:CET
DTSTART:20231029T010000
END:STANDARD
END:VTIMEZONE
BEGIN:VEVENT
DTSTART;TZID=Europe/Madrid:20220314T080000
DTEND;TZID=Europe/Madrid:20221231T213000
DTSTAMP:20260424T130335
CREATED:20220405T085735Z
LAST-MODIFIED:20220405T085735Z
UID:11127-1647244800-1672522200@santillanadelmarturismo.com
SUMMARY:FAQs para personas afectadas por la guerra de Ucrania que llegan a Cantabria
DESCRIPTION:Desde el Ayuntamiento de Santillana del Mar publicamos un documento con preguntas comunes para las personas afectadas por la guerra de Ucrania que llegan a Cantabria. \nEsta información es válida tanto para los recién llegados como para familias que los acogen. \nEsperamos que les sea útil\, ya que responde algunas preguntas sobre necesidades y acciones que se pueden llevar a cabo una vez que las personas afectadas llegan a nuestra comunidad. \n  \nFAQs para personas afectadas por la guerra en Ucrania que acaban de llegar a Cantabria 09_03
URL:https://santillanadelmarturismo.com/evento/faqs-para-personas-afectadas-por-la-guerra-de-ucrania-que-llegan-a-cantabria/
LOCATION:Plaza Mayor\, soportales del Ayuntamiento\, Ayuntamiento\, Santillana Del Mar\, Santillana del Mar\, Cantabria\, 39330
CATEGORIES:Turismo
ATTACH;FMTTYPE=image/png:https://santillanadelmarturismo.com/wp-content/uploads/FOTOS-WEB-5.png
END:VEVENT
END:VCALENDAR