BEGIN:VCALENDAR
VERSION:2.0
PRODID:-//Santillana del Mar Turismo - ECPv6.15.11//NONSGML v1.0//EN
CALSCALE:GREGORIAN
METHOD:PUBLISH
X-ORIGINAL-URL:https://santillanadelmarturismo.com
X-WR-CALDESC:Eventos para Santillana del Mar Turismo
REFRESH-INTERVAL;VALUE=DURATION:PT1H
X-Robots-Tag:noindex
X-PUBLISHED-TTL:PT1H
BEGIN:VTIMEZONE
TZID:Europe/Madrid
BEGIN:DAYLIGHT
TZOFFSETFROM:+0100
TZOFFSETTO:+0200
TZNAME:CEST
DTSTART:20230326T010000
END:DAYLIGHT
BEGIN:STANDARD
TZOFFSETFROM:+0200
TZOFFSETTO:+0100
TZNAME:CET
DTSTART:20231029T010000
END:STANDARD
BEGIN:DAYLIGHT
TZOFFSETFROM:+0100
TZOFFSETTO:+0200
TZNAME:CEST
DTSTART:20240331T010000
END:DAYLIGHT
BEGIN:STANDARD
TZOFFSETFROM:+0200
TZOFFSETTO:+0100
TZNAME:CET
DTSTART:20241027T010000
END:STANDARD
BEGIN:DAYLIGHT
TZOFFSETFROM:+0100
TZOFFSETTO:+0200
TZNAME:CEST
DTSTART:20250330T010000
END:DAYLIGHT
BEGIN:STANDARD
TZOFFSETFROM:+0200
TZOFFSETTO:+0100
TZNAME:CET
DTSTART:20251026T010000
END:STANDARD
END:VTIMEZONE
BEGIN:VEVENT
DTSTART;TZID=Europe/Madrid:20240524T163000
DTEND;TZID=Europe/Madrid:20240526T140000
DTSTAMP:20260423T060100
CREATED:20240429T093523Z
LAST-MODIFIED:20240429T093637Z
UID:11926-1716568200-1716732000@santillanadelmarturismo.com
SUMMARY:Festival Internacional de Títeres Bisóntere
DESCRIPTION:El Festival Internacional de Títeres de Santillana del Mar\, Bisóntere\, celebrará este año su XVII edición el 24\, 25 y 26 de mayo para así recuperar la tradición de celebrarlo el último fin de semana del mes. \nUn total de diez compañías de teatro serán las encargadas de amenizar la villa en esta cita cultural que cada año atrae a más familias y que suele agotar las entradas en horas. Precisamente\, sobre cuándo y cómo se pondrán a la venta las entradas para las dos actuaciones de pago\, al igual que en ocasiones anteriores\, éstas se podrán adquirir previamente desde el 3 de mayo a las 12.00 horas utilizando la plataforma giglon.com. Con decenas de miles de espectadores en su historial\, este festival ha traído a este pequeño municipio cántabro más de 600 representaciones desde 2007.
URL:https://santillanadelmarturismo.com/evento/festival-internacional-de-titeres-bisontere-2/
CATEGORIES:General,Turismo
ATTACH;FMTTYPE=image/jpeg:https://santillanadelmarturismo.com/wp-content/uploads/438077746_18435281200047929_6225375913998621762_n.jpg
END:VEVENT
END:VCALENDAR