BEGIN:VCALENDAR
VERSION:2.0
PRODID:-//Santillana del Mar Turismo - ECPv6.15.11//NONSGML v1.0//EN
CALSCALE:GREGORIAN
METHOD:PUBLISH
X-WR-CALNAME:Santillana del Mar Turismo
X-ORIGINAL-URL:https://santillanadelmarturismo.com
X-WR-CALDESC:Eventos para Santillana del Mar Turismo
REFRESH-INTERVAL;VALUE=DURATION:PT1H
X-Robots-Tag:noindex
X-PUBLISHED-TTL:PT1H
BEGIN:VTIMEZONE
TZID:Europe/Madrid
BEGIN:DAYLIGHT
TZOFFSETFROM:+0100
TZOFFSETTO:+0200
TZNAME:CEST
DTSTART:20230326T010000
END:DAYLIGHT
BEGIN:STANDARD
TZOFFSETFROM:+0200
TZOFFSETTO:+0100
TZNAME:CET
DTSTART:20231029T010000
END:STANDARD
BEGIN:DAYLIGHT
TZOFFSETFROM:+0100
TZOFFSETTO:+0200
TZNAME:CEST
DTSTART:20240331T010000
END:DAYLIGHT
BEGIN:STANDARD
TZOFFSETFROM:+0200
TZOFFSETTO:+0100
TZNAME:CET
DTSTART:20241027T010000
END:STANDARD
BEGIN:DAYLIGHT
TZOFFSETFROM:+0100
TZOFFSETTO:+0200
TZNAME:CEST
DTSTART:20250330T010000
END:DAYLIGHT
BEGIN:STANDARD
TZOFFSETFROM:+0200
TZOFFSETTO:+0100
TZNAME:CET
DTSTART:20251026T010000
END:STANDARD
END:VTIMEZONE
BEGIN:VEVENT
DTSTART;TZID=Europe/Madrid:20240523T080000
DTEND;TZID=Europe/Madrid:20240523T170000
DTSTAMP:20260424T230233
CREATED:20240523T094723Z
LAST-MODIFIED:20240523T094723Z
UID:11950-1716451200-1716483600@santillanadelmarturismo.com
SUMMARY:Emisión de la película 'Caché' en el Museo Jesús Otero
DESCRIPTION:Este sábado en la Filmoteca de Cantabria\, dentro del ciclo ‘Clásicos modernos’\, tendremos la película ‘Caché’\, del director Michael Haneke y protagonizada por Daniel Auteuil y Juliette Binoche.\n\n\nEste largometraje francés de 2005 trata de la vida de Georges\, que lleva una vida acomodada con su mujer y su hijo adolescente. La trama empieza cuando comienza a recibir unos paquetes anónimos con mensajes inquietantes.\n\n\nAsí\, si quieres disfrutar de ‘Caché’\, podrás ir al Museo Jesús Otero este sábado a partir de las 19.00 horas. Como siempre\, la entrada es libre y gratuita hasta completar aforo.
URL:https://santillanadelmarturismo.com/evento/emision-de-la-pelicula-cache-en-el-museo-jesus-otero/
CATEGORIES:General,Turismo
ATTACH;FMTTYPE=image/jpeg:https://santillanadelmarturismo.com/wp-content/uploads/WhatsApp-Image-2024-05-23-at-11.36.37.jpeg
END:VEVENT
END:VCALENDAR