BEGIN:VCALENDAR
VERSION:2.0
PRODID:-//Santillana del Mar Turismo - ECPv6.15.11//NONSGML v1.0//EN
CALSCALE:GREGORIAN
METHOD:PUBLISH
X-ORIGINAL-URL:https://santillanadelmarturismo.com
X-WR-CALDESC:Eventos para Santillana del Mar Turismo
REFRESH-INTERVAL;VALUE=DURATION:PT1H
X-Robots-Tag:noindex
X-PUBLISHED-TTL:PT1H
BEGIN:VTIMEZONE
TZID:Europe/Madrid
BEGIN:DAYLIGHT
TZOFFSETFROM:+0100
TZOFFSETTO:+0200
TZNAME:CEST
DTSTART:20230326T010000
END:DAYLIGHT
BEGIN:STANDARD
TZOFFSETFROM:+0200
TZOFFSETTO:+0100
TZNAME:CET
DTSTART:20231029T010000
END:STANDARD
BEGIN:DAYLIGHT
TZOFFSETFROM:+0100
TZOFFSETTO:+0200
TZNAME:CEST
DTSTART:20240331T010000
END:DAYLIGHT
BEGIN:STANDARD
TZOFFSETFROM:+0200
TZOFFSETTO:+0100
TZNAME:CET
DTSTART:20241027T010000
END:STANDARD
BEGIN:DAYLIGHT
TZOFFSETFROM:+0100
TZOFFSETTO:+0200
TZNAME:CEST
DTSTART:20250330T010000
END:DAYLIGHT
BEGIN:STANDARD
TZOFFSETFROM:+0200
TZOFFSETTO:+0100
TZNAME:CET
DTSTART:20251026T010000
END:STANDARD
END:VTIMEZONE
BEGIN:VEVENT
DTSTART;VALUE=DATE:20240830
DTEND;VALUE=DATE:20240902
DTSTAMP:20260421T211852
CREATED:20240829T111908Z
LAST-MODIFIED:20240829T112614Z
UID:12039-1724976000-1725235199@santillanadelmarturismo.com
SUMMARY:'I Carcajada Festival'
DESCRIPTION:Este fin de semana Santillana del Mar se llenará de humor con el ‘I Carcajada Festival’\, un ciclo de comedia que llega como novedad este año y que espera contar con la presencia de muchos de vosotros para pasar un buen rato.\nPor tanto\, este derroche de sonrisas tendrá lugar este sábado y domingo en la Plaza del Ayuntamiento y contará con la presencia de payasos\, magos e incluso ventrílocuos\, todos en clave de humor\, claro.\nAunque el plato fuerte del festival lo pondrá el cómico Raúl Massana\, que el sábado a las 22 horas presentará en la villa su monólogo ‘Vendo humo’\, un show de stand up comedy que se va adaptando al público sobre la marcha.
URL:https://santillanadelmarturismo.com/evento/i-carcajada-festival/
CATEGORIES:Cultura,Destacados,General,Turismo
ATTACH;FMTTYPE=image/jpeg:https://santillanadelmarturismo.com/wp-content/uploads/Carcajada-festival.jpeg
END:VEVENT
END:VCALENDAR