BEGIN:VCALENDAR
VERSION:2.0
PRODID:-//Santillana del Mar Turismo - ECPv6.15.11//NONSGML v1.0//EN
CALSCALE:GREGORIAN
METHOD:PUBLISH
X-ORIGINAL-URL:https://santillanadelmarturismo.com
X-WR-CALDESC:Eventos para Santillana del Mar Turismo
REFRESH-INTERVAL;VALUE=DURATION:PT1H
X-Robots-Tag:noindex
X-PUBLISHED-TTL:PT1H
BEGIN:VTIMEZONE
TZID:Europe/Madrid
BEGIN:DAYLIGHT
TZOFFSETFROM:+0100
TZOFFSETTO:+0200
TZNAME:CEST
DTSTART:20210328T010000
END:DAYLIGHT
BEGIN:STANDARD
TZOFFSETFROM:+0200
TZOFFSETTO:+0100
TZNAME:CET
DTSTART:20211031T010000
END:STANDARD
BEGIN:DAYLIGHT
TZOFFSETFROM:+0100
TZOFFSETTO:+0200
TZNAME:CEST
DTSTART:20220327T010000
END:DAYLIGHT
BEGIN:STANDARD
TZOFFSETFROM:+0200
TZOFFSETTO:+0100
TZNAME:CET
DTSTART:20221030T010000
END:STANDARD
BEGIN:DAYLIGHT
TZOFFSETFROM:+0100
TZOFFSETTO:+0200
TZNAME:CEST
DTSTART:20230326T010000
END:DAYLIGHT
BEGIN:STANDARD
TZOFFSETFROM:+0200
TZOFFSETTO:+0100
TZNAME:CET
DTSTART:20231029T010000
END:STANDARD
END:VTIMEZONE
BEGIN:VEVENT
DTSTART;TZID=Europe/Madrid:20220405T080000
DTEND;TZID=Europe/Madrid:20220422T140000
DTSTAMP:20260425T183901
CREATED:20220405T085735Z
LAST-MODIFIED:20220405T085735Z
UID:11204-1649145600-1650636000@santillanadelmarturismo.com
SUMMARY:Ludoteca Semana no Lectiva
DESCRIPTION:Desde la concejalía de Juventud del Ayuntamiento de Santillana del Mar se ha organizado una ludoteca para la semana no lectiva del mes de abril \nLas actividades se desarrollan del 18 al 22 de abril en horario de 8.00h a 14.00h. \nDirigido para los niños y niñas empadronados en el municipio. \nLas plazas serán limitadas y es necesario inscribirse con anterioridad. \nLas solicitudes se pueden presentar por correo electrónico a juventud@aytosantillana.org o llamando al teléfono 942 80 81 75 y preguntar por la concejala de Juventud Paula Pérez
URL:https://santillanadelmarturismo.com/evento/ludoteca-semana-no-lectiva-3/
CATEGORIES:Destacados,Turismo
ATTACH;FMTTYPE=image/png:https://santillanadelmarturismo.com/wp-content/uploads/LUDOTECA-ABRIL.png
END:VEVENT
END:VCALENDAR