BEGIN:VCALENDAR
VERSION:2.0
PRODID:-//Santillana del Mar Turismo - ECPv6.15.11//NONSGML v1.0//EN
CALSCALE:GREGORIAN
METHOD:PUBLISH
X-ORIGINAL-URL:https://santillanadelmarturismo.com
X-WR-CALDESC:Eventos para Santillana del Mar Turismo
REFRESH-INTERVAL;VALUE=DURATION:PT1H
X-Robots-Tag:noindex
X-PUBLISHED-TTL:PT1H
BEGIN:VTIMEZONE
TZID:Europe/Madrid
BEGIN:DAYLIGHT
TZOFFSETFROM:+0100
TZOFFSETTO:+0200
TZNAME:CEST
DTSTART:20200329T010000
END:DAYLIGHT
BEGIN:STANDARD
TZOFFSETFROM:+0200
TZOFFSETTO:+0100
TZNAME:CET
DTSTART:20201025T010000
END:STANDARD
BEGIN:DAYLIGHT
TZOFFSETFROM:+0100
TZOFFSETTO:+0200
TZNAME:CEST
DTSTART:20210328T010000
END:DAYLIGHT
BEGIN:STANDARD
TZOFFSETFROM:+0200
TZOFFSETTO:+0100
TZNAME:CET
DTSTART:20211031T010000
END:STANDARD
BEGIN:DAYLIGHT
TZOFFSETFROM:+0100
TZOFFSETTO:+0200
TZNAME:CEST
DTSTART:20220327T010000
END:DAYLIGHT
BEGIN:STANDARD
TZOFFSETFROM:+0200
TZOFFSETTO:+0100
TZNAME:CET
DTSTART:20221030T010000
END:STANDARD
END:VTIMEZONE
BEGIN:VEVENT
DTSTART;TZID=Europe/Madrid:20211020T100000
DTEND;TZID=Europe/Madrid:20211102T100000
DTSTAMP:20260424T181604
CREATED:20211020T100921Z
LAST-MODIFIED:20211020T100921Z
UID:10580-1634724000-1635847200@santillanadelmarturismo.com
SUMMARY:Concurso decoración de Casas Halloween
DESCRIPTION:Desde el Ayuntamiento de Santillana del Mar\, la concejalía de Juventud ha organizado un año más el concurso de decoración de casas para Halloween. \nPara participar debes de enviar un correo electrónico a juventud@aytosantillana.org con fotos o un video de la decoración de la casa. \nEl jurado de este concurso serán niños y niñas seleccionados aleatoriamente durante la semana no lectiva del municipio de Santillana del Mar \nEl premio es una tarjeta de regalo de 50 euros para gastar en Amazon \nAdjuntamos además las bases para participar en el concurso \nnuevas Bases concurso decoración halloween \n \n 
URL:https://santillanadelmarturismo.com/evento/concurso-decoracion-de-casas-halloween/
LOCATION:Santillana del Mar\, Santillana del Mar\, Cantabria\, 39330\, España
CATEGORIES:Destacados,Turismo
ATTACH;FMTTYPE=image/png:https://santillanadelmarturismo.com/wp-content/uploads/DECORACION-CASAS-HALLOWEEN.png
END:VEVENT
END:VCALENDAR