BEGIN:VCALENDAR
VERSION:2.0
PRODID:-//Santillana del Mar Turismo - ECPv6.15.11//NONSGML v1.0//EN
CALSCALE:GREGORIAN
METHOD:PUBLISH
X-WR-CALNAME:Santillana del Mar Turismo
X-ORIGINAL-URL:https://santillanadelmarturismo.com
X-WR-CALDESC:Eventos para Santillana del Mar Turismo
REFRESH-INTERVAL;VALUE=DURATION:PT1H
X-Robots-Tag:noindex
X-PUBLISHED-TTL:PT1H
BEGIN:VTIMEZONE
TZID:Europe/Madrid
BEGIN:DAYLIGHT
TZOFFSETFROM:+0100
TZOFFSETTO:+0200
TZNAME:CEST
DTSTART:20200329T010000
END:DAYLIGHT
BEGIN:STANDARD
TZOFFSETFROM:+0200
TZOFFSETTO:+0100
TZNAME:CET
DTSTART:20201025T010000
END:STANDARD
BEGIN:DAYLIGHT
TZOFFSETFROM:+0100
TZOFFSETTO:+0200
TZNAME:CEST
DTSTART:20210328T010000
END:DAYLIGHT
BEGIN:STANDARD
TZOFFSETFROM:+0200
TZOFFSETTO:+0100
TZNAME:CET
DTSTART:20211031T010000
END:STANDARD
BEGIN:DAYLIGHT
TZOFFSETFROM:+0100
TZOFFSETTO:+0200
TZNAME:CEST
DTSTART:20220327T010000
END:DAYLIGHT
BEGIN:STANDARD
TZOFFSETFROM:+0200
TZOFFSETTO:+0100
TZNAME:CET
DTSTART:20221030T010000
END:STANDARD
END:VTIMEZONE
BEGIN:VEVENT
DTSTART;TZID=Europe/Madrid:20210830T090000
DTEND;TZID=Europe/Madrid:20210901T190000
DTSTAMP:20260425T055943
CREATED:20210527T084828Z
LAST-MODIFIED:20210527T084842Z
UID:10250-1630314000-1630522800@santillanadelmarturismo.com
SUMMARY:Curso 'De la sostenibilidad del turismo al turismo sostenible'
DESCRIPTION:La Universidad de Cantabria organiza un curso titulado ‘De la sostenibilidad del turismo al turismo sostenible’ en el Museo Diocesano Regina Coeli. \nFechas de celebración: del 30 de agosto al 1 de septiembre.
URL:https://santillanadelmarturismo.com/evento/curso-de-la-sostenibilidad-del-turismo-al-turismo-sostenible/
LOCATION:Capilla Museo Diocesano
CATEGORIES:Destacados,Turismo
ATTACH;FMTTYPE=image/png:https://santillanadelmarturismo.com/wp-content/uploads/MUSEO-DIOCESANO-WEB.png
END:VEVENT
END:VCALENDAR