BEGIN:VCALENDAR
VERSION:2.0
PRODID:-//Santillana del Mar Turismo - ECPv6.15.11//NONSGML v1.0//EN
CALSCALE:GREGORIAN
METHOD:PUBLISH
X-WR-CALNAME:Santillana del Mar Turismo
X-ORIGINAL-URL:https://santillanadelmarturismo.com
X-WR-CALDESC:Eventos para Santillana del Mar Turismo
REFRESH-INTERVAL;VALUE=DURATION:PT1H
X-Robots-Tag:noindex
X-PUBLISHED-TTL:PT1H
BEGIN:VTIMEZONE
TZID:Europe/Madrid
BEGIN:DAYLIGHT
TZOFFSETFROM:+0100
TZOFFSETTO:+0200
TZNAME:CEST
DTSTART:20200329T010000
END:DAYLIGHT
BEGIN:STANDARD
TZOFFSETFROM:+0200
TZOFFSETTO:+0100
TZNAME:CET
DTSTART:20201025T010000
END:STANDARD
BEGIN:DAYLIGHT
TZOFFSETFROM:+0100
TZOFFSETTO:+0200
TZNAME:CEST
DTSTART:20210328T010000
END:DAYLIGHT
BEGIN:STANDARD
TZOFFSETFROM:+0200
TZOFFSETTO:+0100
TZNAME:CET
DTSTART:20211031T010000
END:STANDARD
BEGIN:DAYLIGHT
TZOFFSETFROM:+0100
TZOFFSETTO:+0200
TZNAME:CEST
DTSTART:20220327T010000
END:DAYLIGHT
BEGIN:STANDARD
TZOFFSETFROM:+0200
TZOFFSETTO:+0100
TZNAME:CET
DTSTART:20221030T010000
END:STANDARD
END:VTIMEZONE
BEGIN:VEVENT
DTSTART;TZID=Europe/Madrid:20210709T100000
DTEND;TZID=Europe/Madrid:20210711T210000
DTSTAMP:20260424T231828
CREATED:20210622T093805Z
LAST-MODIFIED:20210622T093805Z
UID:10131-1625824800-1626037200@santillanadelmarturismo.com
SUMMARY:Festival de Títeres 'Bisontere 2021'
DESCRIPTION:El Festival de Títeres ‘Bisontere’ se llevará a cabo en Santillana del Mar del 9 al 11 de julio \nLa villa de Santillana será testigo un año más de todos los eventos que caracterizan este festival. \nLa XIV edición del Festival participarán diez compañías nacionales e internacionales\, con diez espectáculos en total y más de 20 pases repartidos a lo largo de ese fin de semana. Hay propuestas llegadas desde México\, República Checa\, Oriente Medio y España. Con esta propuesta\, Santillana del Mar mostrará un año más diferentes disciplinas del arte del títere y la manipulación de objetos\, un viaje lleno de magia para todas las edades. \nEste año\, debido a la situación causada por el COVID-19 las actuaciones y actividades se desarrollarán con todas las medidas de seguridad y con un aforo limitado. \n 
URL:https://santillanadelmarturismo.com/evento/festival-de-titeres-bisontere-2021/
LOCATION:Calles de la Villa\, Calles de la Villa\, Santillana Del Mar\, Cantabria\, 39330\, España
CATEGORIES:Destacados,Turismo
ATTACH;FMTTYPE=image/png:https://santillanadelmarturismo.com/wp-content/uploads/BISONTERE-2021-1.png
END:VEVENT
END:VCALENDAR