BEGIN:VCALENDAR
VERSION:2.0
PRODID:-//Santillana del Mar Turismo - ECPv6.15.11//NONSGML v1.0//EN
CALSCALE:GREGORIAN
METHOD:PUBLISH
X-WR-CALNAME:Santillana del Mar Turismo
X-ORIGINAL-URL:https://santillanadelmarturismo.com
X-WR-CALDESC:Eventos para Santillana del Mar Turismo
REFRESH-INTERVAL;VALUE=DURATION:PT1H
X-Robots-Tag:noindex
X-PUBLISHED-TTL:PT1H
BEGIN:VTIMEZONE
TZID:Europe/Madrid
BEGIN:DAYLIGHT
TZOFFSETFROM:+0100
TZOFFSETTO:+0200
TZNAME:CEST
DTSTART:20230326T010000
END:DAYLIGHT
BEGIN:STANDARD
TZOFFSETFROM:+0200
TZOFFSETTO:+0100
TZNAME:CET
DTSTART:20231029T010000
END:STANDARD
BEGIN:DAYLIGHT
TZOFFSETFROM:+0100
TZOFFSETTO:+0200
TZNAME:CEST
DTSTART:20240331T010000
END:DAYLIGHT
BEGIN:STANDARD
TZOFFSETFROM:+0200
TZOFFSETTO:+0100
TZNAME:CET
DTSTART:20241027T010000
END:STANDARD
BEGIN:DAYLIGHT
TZOFFSETFROM:+0100
TZOFFSETTO:+0200
TZNAME:CEST
DTSTART:20250330T010000
END:DAYLIGHT
BEGIN:STANDARD
TZOFFSETFROM:+0200
TZOFFSETTO:+0100
TZNAME:CET
DTSTART:20251026T010000
END:STANDARD
END:VTIMEZONE
BEGIN:VEVENT
DTSTART;TZID=Europe/Madrid:20240516T080000
DTEND;TZID=Europe/Madrid:20240530T170000
DTSTAMP:20260421T190301
CREATED:20240515T102624Z
LAST-MODIFIED:20240515T102624Z
UID:11943-1715846400-1717088400@santillanadelmarturismo.com
SUMMARY:El Museo Jesús Otero acoge la exposición ‘Teatrillos de papel. Mágico mundo de cuentos’
DESCRIPTION:La exposición ‘Teatrillos de papel. Mágico mundo de cuentos’ llegará al Museo Jesús Otero este jueves 16 de mayo y traerá con ella nueve teatrillos de papel provenientes de España\, Italia\, Francia\, Alemania\, Reino Unido y República Checa. Dichas piezas se caracterizan por la rareza de la edición y su estado de conservación\, ya que muchos de ellos se presentan con los títeres y con los diferentes escenarios. Cabe decir que estos teatrillos forman parte del programa de exposiciones ‘Libros en movimiento’\, que pertenecen a las colecciones de la Biblioteca de Arte Libro junto con la empresa Artpapel. Esta muestra se podrá visitar en el Museo Jesús Otero hasta el próximo 30 de mayo.
URL:https://santillanadelmarturismo.com/evento/el-museo-jesus-otero-acoge-la-exposicion-teatrillos-de-papel-magico-mundo-de-cuentos/
CATEGORIES:General,Turismo
END:VEVENT
END:VCALENDAR