BEGIN:VCALENDAR
VERSION:2.0
PRODID:-//Santillana del Mar Turismo - ECPv6.15.11//NONSGML v1.0//EN
CALSCALE:GREGORIAN
METHOD:PUBLISH
X-ORIGINAL-URL:https://santillanadelmarturismo.com
X-WR-CALDESC:Eventos para Santillana del Mar Turismo
REFRESH-INTERVAL;VALUE=DURATION:PT1H
X-Robots-Tag:noindex
X-PUBLISHED-TTL:PT1H
BEGIN:VTIMEZONE
TZID:Europe/Madrid
BEGIN:DAYLIGHT
TZOFFSETFROM:+0100
TZOFFSETTO:+0200
TZNAME:CEST
DTSTART:20230326T010000
END:DAYLIGHT
BEGIN:STANDARD
TZOFFSETFROM:+0200
TZOFFSETTO:+0100
TZNAME:CET
DTSTART:20231029T010000
END:STANDARD
BEGIN:DAYLIGHT
TZOFFSETFROM:+0100
TZOFFSETTO:+0200
TZNAME:CEST
DTSTART:20240331T010000
END:DAYLIGHT
BEGIN:STANDARD
TZOFFSETFROM:+0200
TZOFFSETTO:+0100
TZNAME:CET
DTSTART:20241027T010000
END:STANDARD
BEGIN:DAYLIGHT
TZOFFSETFROM:+0100
TZOFFSETTO:+0200
TZNAME:CEST
DTSTART:20250330T010000
END:DAYLIGHT
BEGIN:STANDARD
TZOFFSETFROM:+0200
TZOFFSETTO:+0100
TZNAME:CET
DTSTART:20251026T010000
END:STANDARD
END:VTIMEZONE
BEGIN:VEVENT
DTSTART;VALUE=DATE:20240830
DTEND;VALUE=DATE:20240831
DTSTAMP:20260421T134404
CREATED:20240829T112458Z
LAST-MODIFIED:20240829T112458Z
UID:12041-1724976000-1725062399@santillanadelmarturismo.com
SUMMARY:30 aniversario de la muerte de Jesús Otero
DESCRIPTION:El pasado lunes 26 de agosto se cumplieron 30 años del fallecimiento de Jesús Otero\, y este aniversario es el que ha llevado a la Fundación Jesús Otero a preparar una presentación de documentales y un coloquio abierto para tratar la figura del artista y exponer todo el trabajo que realizó.\n\n\n \n\n\nDicha conmemoración se desarrollará el viernes a partir de las 19 horas en el museo homónimo del artista y la presentación del acto lo llevarán a cabo el escritor especializado en la vida del autor julianense\, Luis Alberto Salcines\, y el presidente del Museo Diocesano\, Enrique Campuzano.\n\n\n \n\n\nLa alcaldesa y concejala de Cultura del Ayuntamiento de Santillana del Mar\, Sara Izquierdo\, ha querido mostrar el apoyo «absoluto» de la corporación «a esta iniciativa que mantiene vivo en nuestra memoria a Jesús Otero\, un absoluto referente de la escultura a nivel nacional que además era un enamorado de su villa».
URL:https://santillanadelmarturismo.com/evento/30-aniversario-de-la-muerte-de-jesus-otero/
CATEGORIES:Cultura,Destacados,General
ATTACH;FMTTYPE=image/png:https://santillanadelmarturismo.com/wp-content/uploads/Post-de-Instagram-Aniversario-del-General-Jose-de-San-Martin-Fotografia-Blanco-y-Celeste.png
END:VEVENT
END:VCALENDAR