BEGIN:VCALENDAR
VERSION:2.0
PRODID:-//Santillana del Mar Turismo - ECPv6.15.11//NONSGML v1.0//EN
CALSCALE:GREGORIAN
METHOD:PUBLISH
X-WR-CALNAME:Santillana del Mar Turismo
X-ORIGINAL-URL:https://santillanadelmarturismo.com
X-WR-CALDESC:Eventos para Santillana del Mar Turismo
REFRESH-INTERVAL;VALUE=DURATION:PT1H
X-Robots-Tag:noindex
X-PUBLISHED-TTL:PT1H
BEGIN:VTIMEZONE
TZID:Europe/Madrid
BEGIN:DAYLIGHT
TZOFFSETFROM:+0100
TZOFFSETTO:+0200
TZNAME:CEST
DTSTART:20200329T010000
END:DAYLIGHT
BEGIN:STANDARD
TZOFFSETFROM:+0200
TZOFFSETTO:+0100
TZNAME:CET
DTSTART:20201025T010000
END:STANDARD
BEGIN:DAYLIGHT
TZOFFSETFROM:+0100
TZOFFSETTO:+0200
TZNAME:CEST
DTSTART:20210328T010000
END:DAYLIGHT
BEGIN:STANDARD
TZOFFSETFROM:+0200
TZOFFSETTO:+0100
TZNAME:CET
DTSTART:20211031T010000
END:STANDARD
BEGIN:DAYLIGHT
TZOFFSETFROM:+0100
TZOFFSETTO:+0200
TZNAME:CEST
DTSTART:20220327T010000
END:DAYLIGHT
BEGIN:STANDARD
TZOFFSETFROM:+0200
TZOFFSETTO:+0100
TZNAME:CET
DTSTART:20221030T010000
END:STANDARD
END:VTIMEZONE
BEGIN:VEVENT
DTSTART;TZID=Europe/Madrid:20210716T190000
DTEND;TZID=Europe/Madrid:20210716T210000
DTSTAMP:20260425T034748
CREATED:20210526T092347Z
LAST-MODIFIED:20210526T092347Z
UID:10253-1626462000-1626469200@santillanadelmarturismo.com
SUMMARY:Jornada 'Museos y Patrimonio Cultural como motor de desarrollo económico'
DESCRIPTION:Como parte de la programación de los cursos de verano de la Universidad de Cantabria\, las Casas de Águila y la Parra acogen el viernes 16 de julio una jornada titulada ‘Museos y Patrimonio Cultural como motor de desarrollo económico’. \nLugar: Las Casas de Águila y la Parra \nHora: 19.00 horas
URL:https://santillanadelmarturismo.com/evento/jornada-museos-y-patrimonio-cultural-como-motor-de-desarrollo-economico/
CATEGORIES:Destacados,Turismo
ATTACH;FMTTYPE=image/png:https://santillanadelmarturismo.com/wp-content/uploads/AGUILA-Y-LA-PARRA-WEB.png
END:VEVENT
END:VCALENDAR