BEGIN:VCALENDAR
VERSION:2.0
PRODID:-//Santillana del Mar Turismo - ECPv6.15.11//NONSGML v1.0//EN
CALSCALE:GREGORIAN
METHOD:PUBLISH
X-WR-CALNAME:Santillana del Mar Turismo
X-ORIGINAL-URL:https://santillanadelmarturismo.com
X-WR-CALDESC:Eventos para Santillana del Mar Turismo
REFRESH-INTERVAL;VALUE=DURATION:PT1H
X-Robots-Tag:noindex
X-PUBLISHED-TTL:PT1H
BEGIN:VTIMEZONE
TZID:Europe/Madrid
BEGIN:DAYLIGHT
TZOFFSETFROM:+0100
TZOFFSETTO:+0200
TZNAME:CEST
DTSTART:20210328T010000
END:DAYLIGHT
BEGIN:STANDARD
TZOFFSETFROM:+0200
TZOFFSETTO:+0100
TZNAME:CET
DTSTART:20211031T010000
END:STANDARD
BEGIN:DAYLIGHT
TZOFFSETFROM:+0100
TZOFFSETTO:+0200
TZNAME:CEST
DTSTART:20220327T010000
END:DAYLIGHT
BEGIN:STANDARD
TZOFFSETFROM:+0200
TZOFFSETTO:+0100
TZNAME:CET
DTSTART:20221030T010000
END:STANDARD
BEGIN:DAYLIGHT
TZOFFSETFROM:+0100
TZOFFSETTO:+0200
TZNAME:CEST
DTSTART:20230326T010000
END:DAYLIGHT
BEGIN:STANDARD
TZOFFSETFROM:+0200
TZOFFSETTO:+0100
TZNAME:CET
DTSTART:20231029T010000
END:STANDARD
END:VTIMEZONE
BEGIN:VEVENT
DTSTART;TZID=Europe/Madrid:20220625T220000
DTEND;TZID=Europe/Madrid:20220625T233000
DTSTAMP:20260424T030228
CREATED:20220613T095027Z
LAST-MODIFIED:20220613T095027Z
UID:11322-1656194400-1656199800@santillanadelmarturismo.com
SUMMARY:La noche romántica
DESCRIPTION:Santillana del Mar celebra la noche romántica el 25 de junio de forma sincronizada con todos los pueblos que forman parte de la red de Pueblos Más Bonitos de España. \nDurante ese día habrá un photocall en la Plaza Mayor. Si te sacas una foto en él y la subes a Instagram mencionando al Ayuntamiento y a Los Pueblos Más Bonitos\, podrás participar en nuestro sorteo. \nA las 22.00 horas actuará Sara Sua en la Plaza Mayor \nAdemás\, hoteles y restaurantes tendrán ofertas especiales con motivo de la celebración.
URL:https://santillanadelmarturismo.com/evento/la-noche-romantica-3/
LOCATION:Plaza Mayor\, Plaza Mayor\, Santillana del Mar\, Cantabria\, 39330\, España
CATEGORIES:Destacados,Turismo
ATTACH;FMTTYPE=image/png:https://santillanadelmarturismo.com/wp-content/uploads/NOCHE-ROMANTICA-1.png
END:VEVENT
END:VCALENDAR