BEGIN:VCALENDAR
VERSION:2.0
PRODID:-//Santillana del Mar Turismo - ECPv6.15.11//NONSGML v1.0//EN
CALSCALE:GREGORIAN
METHOD:PUBLISH
X-WR-CALNAME:Santillana del Mar Turismo
X-ORIGINAL-URL:https://santillanadelmarturismo.com
X-WR-CALDESC:Eventos para Santillana del Mar Turismo
REFRESH-INTERVAL;VALUE=DURATION:PT1H
X-Robots-Tag:noindex
X-PUBLISHED-TTL:PT1H
BEGIN:VTIMEZONE
TZID:Europe/Madrid
BEGIN:DAYLIGHT
TZOFFSETFROM:+0100
TZOFFSETTO:+0200
TZNAME:CEST
DTSTART:20200329T010000
END:DAYLIGHT
BEGIN:STANDARD
TZOFFSETFROM:+0200
TZOFFSETTO:+0100
TZNAME:CET
DTSTART:20201025T010000
END:STANDARD
BEGIN:DAYLIGHT
TZOFFSETFROM:+0100
TZOFFSETTO:+0200
TZNAME:CEST
DTSTART:20210328T010000
END:DAYLIGHT
BEGIN:STANDARD
TZOFFSETFROM:+0200
TZOFFSETTO:+0100
TZNAME:CET
DTSTART:20211031T010000
END:STANDARD
BEGIN:DAYLIGHT
TZOFFSETFROM:+0100
TZOFFSETTO:+0200
TZNAME:CEST
DTSTART:20220327T010000
END:DAYLIGHT
BEGIN:STANDARD
TZOFFSETFROM:+0200
TZOFFSETTO:+0100
TZNAME:CET
DTSTART:20221030T010000
END:STANDARD
END:VTIMEZONE
BEGIN:VEVENT
DTSTART;TZID=Europe/Madrid:20211102T083000
DTEND;TZID=Europe/Madrid:20211105T140000
DTSTAMP:20260425T224724
CREATED:20211020T100921Z
LAST-MODIFIED:20211020T100921Z
UID:10574-1635841800-1636120800@santillanadelmarturismo.com
SUMMARY:Ludoteca Semana no lectiva
DESCRIPTION:Desde el Ayuntamiento de Santillana del Mar se ha organizado una ludoteca para la semana no lectiva del 2 al 5 de noviembre para todos los niños y niñas empadronados en el municipio de Santillana del Mar. \nEl horario será de 8.30h a 14.00h  \nLas plazas serán limitadas y es necesario inscribirse con anterioridad\, se respetaran las plazas según el orden de inscripción. \nSe pueden presentar por correo electrónico juventud@aytosantillana.org o llamando al teléfono 942 80 81 75 y preguntar por la concejala de Juventud Paula Pérez
URL:https://santillanadelmarturismo.com/evento/ludoteca-semana-no-lectiva/
LOCATION:Exposición «intemperies» de José Aja\, Cantabria
CATEGORIES:Destacados,Turismo
ATTACH;FMTTYPE=image/png:https://santillanadelmarturismo.com/wp-content/uploads/LUDOTECA.png
END:VEVENT
END:VCALENDAR