BEGIN:VCALENDAR
VERSION:2.0
PRODID:-//Santillana del Mar Turismo - ECPv6.15.11//NONSGML v1.0//EN
CALSCALE:GREGORIAN
METHOD:PUBLISH
X-WR-CALNAME:Santillana del Mar Turismo
X-ORIGINAL-URL:https://santillanadelmarturismo.com
X-WR-CALDESC:Eventos para Santillana del Mar Turismo
REFRESH-INTERVAL;VALUE=DURATION:PT1H
X-Robots-Tag:noindex
X-PUBLISHED-TTL:PT1H
BEGIN:VTIMEZONE
TZID:Europe/Madrid
BEGIN:DAYLIGHT
TZOFFSETFROM:+0100
TZOFFSETTO:+0200
TZNAME:CEST
DTSTART:20230326T010000
END:DAYLIGHT
BEGIN:STANDARD
TZOFFSETFROM:+0200
TZOFFSETTO:+0100
TZNAME:CET
DTSTART:20231029T010000
END:STANDARD
BEGIN:DAYLIGHT
TZOFFSETFROM:+0100
TZOFFSETTO:+0200
TZNAME:CEST
DTSTART:20240331T010000
END:DAYLIGHT
BEGIN:STANDARD
TZOFFSETFROM:+0200
TZOFFSETTO:+0100
TZNAME:CET
DTSTART:20241027T010000
END:STANDARD
BEGIN:DAYLIGHT
TZOFFSETFROM:+0100
TZOFFSETTO:+0200
TZNAME:CEST
DTSTART:20250330T010000
END:DAYLIGHT
BEGIN:STANDARD
TZOFFSETFROM:+0200
TZOFFSETTO:+0100
TZNAME:CET
DTSTART:20251026T010000
END:STANDARD
END:VTIMEZONE
BEGIN:VEVENT
DTSTART;VALUE=DATE:20241114
DTEND;VALUE=DATE:20241115
DTSTAMP:20260421T211445
CREATED:20241111T105037Z
LAST-MODIFIED:20241111T105037Z
UID:12088-1731542400-1731628799@santillanadelmarturismo.com
SUMMARY:Recorrido por la vida y obra de Matilde Camus
DESCRIPTION:Si no tienes planes para el jueves por la tarde\, te proponemos uno:\n\n\nSe trata de una lectura de una selección de poemas de la reconocida escritora cántabra Matilde Camus. Esta estará a cargo de Matilde Guisández\, hija de Matilde Camus\, quien guiará a los asistentes a través de un recorrido íntimo por la vida y obra de esta destacada figura de la poesía española\, descubriendo sus pensamientos\, emociones y la pasión y verdad que imprimió en sus versos.\n\n\n\nEste homenaje a la escritora busca celebrar y revivir la vinculación afectiva que tuvo Matilde Camus con Santillana del Mar y su gran amistad con uno de sus hijos más recocidos: Jesús Otero.\n\n\n\nEl evento tendrá lugar el próximo jueves 14 de noviembre a las 18:00 horas\, en el Museo Jesús Otero de Santillana del Mar. Desde la Concejalía de Cultura os animamos a participar en esta cita única apoyada por nuestro Club de Lectura y que\, a buen seguro\, os parecerá de lo más enriquecedora.
URL:https://santillanadelmarturismo.com/evento/recorrido-por-la-vida-y-obra-de-matilde-camus/
CATEGORIES:Cultura,General
ATTACH;FMTTYPE=image/jpeg:https://santillanadelmarturismo.com/wp-content/uploads/Museo-Jesus-Otero-400x300-2.jpeg
END:VEVENT
END:VCALENDAR