BEGIN:VCALENDAR
VERSION:2.0
PRODID:-//Santillana del Mar Turismo - ECPv6.15.11//NONSGML v1.0//EN
CALSCALE:GREGORIAN
METHOD:PUBLISH
X-ORIGINAL-URL:https://santillanadelmarturismo.com
X-WR-CALDESC:Eventos para Santillana del Mar Turismo
REFRESH-INTERVAL;VALUE=DURATION:PT1H
X-Robots-Tag:noindex
X-PUBLISHED-TTL:PT1H
BEGIN:VTIMEZONE
TZID:Europe/Madrid
BEGIN:DAYLIGHT
TZOFFSETFROM:+0100
TZOFFSETTO:+0200
TZNAME:CEST
DTSTART:20230326T010000
END:DAYLIGHT
BEGIN:STANDARD
TZOFFSETFROM:+0200
TZOFFSETTO:+0100
TZNAME:CET
DTSTART:20231029T010000
END:STANDARD
BEGIN:DAYLIGHT
TZOFFSETFROM:+0100
TZOFFSETTO:+0200
TZNAME:CEST
DTSTART:20240331T010000
END:DAYLIGHT
BEGIN:STANDARD
TZOFFSETFROM:+0200
TZOFFSETTO:+0100
TZNAME:CET
DTSTART:20241027T010000
END:STANDARD
BEGIN:DAYLIGHT
TZOFFSETFROM:+0100
TZOFFSETTO:+0200
TZNAME:CEST
DTSTART:20250330T010000
END:DAYLIGHT
BEGIN:STANDARD
TZOFFSETFROM:+0200
TZOFFSETTO:+0100
TZNAME:CET
DTSTART:20251026T010000
END:STANDARD
END:VTIMEZONE
BEGIN:VEVENT
DTSTART;VALUE=DATE:20240921
DTEND;VALUE=DATE:20240922
DTSTAMP:20260421T211457
CREATED:20240918T104206Z
LAST-MODIFIED:20240918T104206Z
UID:12060-1726876800-1726963199@santillanadelmarturismo.com
SUMMARY:Misa y concierto de la Sociedad Coral de Torrelavega en la Colegiata
DESCRIPTION:El próximo 21 de septiembre la Sociedad Coral de Torrelavega estará en la Colegiata de Santillana del Mar desde las 20 horas ofreciendo un concierto completísimo que abarca muchas de las grandes obras de la música clásica.\n\n\nLa entrada es gratuita y desde la Concejalía de Cultura os animamos a asistir a este concierto que va mucho más allá de la música y que hará que la misa se convierta en todo un espectáculo para los sentidos.
URL:https://santillanadelmarturismo.com/evento/misa-y-concierto-de-la-sociedad-coral-de-torrelavega-en-la-colegiata/
CATEGORIES:Cultura,Destacados,Turismo
ATTACH;FMTTYPE=image/jpeg:https://santillanadelmarturismo.com/wp-content/uploads/Cartel-Concierto-Solidario-Musica-Elegante-Marron.jpg
END:VEVENT
BEGIN:VEVENT
DTSTART;TZID=Europe/Madrid:20240921T000000
DTEND;TZID=Europe/Madrid:20240921T235959
DTSTAMP:20260421T211457
CREATED:20240918T172002Z
LAST-MODIFIED:20240918T172002Z
UID:12068-1726876800-1726963199@santillanadelmarturismo.com
SUMMARY:Misa y concierto de la Sociedad Coral de Torrelavega en la Colegiata
DESCRIPTION: \n\nEl próximo 21 de septiembre la Sociedad Coral de Torrelavega estará en la Colegiata de Santillana del Mar desde las 20 horas ofreciendo un concierto completísimo que abarca muchas de las grandes obras de la música clásica.\n\n\nLa entrada es gratuita y desde la Concejalía de Cultura os animamos a asistir a este concierto que va mucho más allá de la música y que hará que la misa se convierta en todo un espectáculo para los sentidos.
URL:https://santillanadelmarturismo.com/evento/misa-y-concierto-de-la-sociedad-coral-de-torrelavega-en-la-colegiata-2/
CATEGORIES:Cultura,Turismo
ATTACH;FMTTYPE=image/jpeg:https://santillanadelmarturismo.com/wp-content/uploads/Cartel-Concierto-Solidario-Musica-Elegante-Marron.jpg
END:VEVENT
END:VCALENDAR