BEGIN:VCALENDAR
VERSION:2.0
PRODID:-//Santillana del Mar Turismo - ECPv6.15.11//NONSGML v1.0//EN
CALSCALE:GREGORIAN
METHOD:PUBLISH
X-WR-CALNAME:Santillana del Mar Turismo
X-ORIGINAL-URL:https://santillanadelmarturismo.com
X-WR-CALDESC:Eventos para Santillana del Mar Turismo
REFRESH-INTERVAL;VALUE=DURATION:PT1H
X-Robots-Tag:noindex
X-PUBLISHED-TTL:PT1H
BEGIN:VTIMEZONE
TZID:Europe/Madrid
BEGIN:DAYLIGHT
TZOFFSETFROM:+0100
TZOFFSETTO:+0200
TZNAME:CEST
DTSTART:20230326T010000
END:DAYLIGHT
BEGIN:STANDARD
TZOFFSETFROM:+0200
TZOFFSETTO:+0100
TZNAME:CET
DTSTART:20231029T010000
END:STANDARD
BEGIN:DAYLIGHT
TZOFFSETFROM:+0100
TZOFFSETTO:+0200
TZNAME:CEST
DTSTART:20240331T010000
END:DAYLIGHT
BEGIN:STANDARD
TZOFFSETFROM:+0200
TZOFFSETTO:+0100
TZNAME:CET
DTSTART:20241027T010000
END:STANDARD
BEGIN:DAYLIGHT
TZOFFSETFROM:+0100
TZOFFSETTO:+0200
TZNAME:CEST
DTSTART:20250330T010000
END:DAYLIGHT
BEGIN:STANDARD
TZOFFSETFROM:+0200
TZOFFSETTO:+0100
TZNAME:CET
DTSTART:20251026T010000
END:STANDARD
END:VTIMEZONE
BEGIN:VEVENT
DTSTART;TZID=Europe/Madrid:20240615T210000
DTEND;TZID=Europe/Madrid:20240615T233000
DTSTAMP:20260423T030334
CREATED:20240610T084546Z
LAST-MODIFIED:20240610T084546Z
UID:11954-1718485200-1718494200@santillanadelmarturismo.com
SUMMARY:'Los conciertos de la villa' presentan a 'Still River'
DESCRIPTION:Con un sonido claramente marcado por las influencias norteamericanas del cantante\, los ‘Still River’ llegarán este sábado 15 de junio a Santillana del Mar para amenizar al municipio de buena música en directo. \nEl concierto arrancará a las 21.00 horas en la plaza Mayor y\, en caso de lluvia\, se trasladará al CEIP Santa Juliana.
URL:https://santillanadelmarturismo.com/evento/los-conciertos-de-la-villa-presentan-a-still-river/
CATEGORIES:General,Turismo
ATTACH;FMTTYPE=image/jpeg:https://santillanadelmarturismo.com/wp-content/uploads/Still-baja4-scaled.jpg
END:VEVENT
BEGIN:VEVENT
DTSTART;TZID=Europe/Madrid:20240622T210000
DTEND;TZID=Europe/Madrid:20240622T230000
DTSTAMP:20260423T030334
CREATED:20240610T085555Z
LAST-MODIFIED:20240610T085555Z
UID:11957-1719090000-1719097200@santillanadelmarturismo.com
SUMMARY:'Los conciertos de la villa' presentan a 'Vittersweet'
DESCRIPTION:Berta Vittersweet es una cantante y compositora bilbaína que gusta de la música soul\, el rap\, el reggae y el R&B en inglés. En 2016 publicó su primer álbum ‘Choose the love’\, un catálogo de R&B y neo-soul en el que ofrece un puñado de originales con su voz como motor y principal protagonista. \nEl sábado 22 de junio ofrecerá un concierto gratuito a partir de las 21.00 horas en Santillana del Mar dentro del ciclo ‘Los conciertos de la villa’. El lugar elegido es la plaza mayor del municipio aunque\, en caso de lluvia\, se trasladará al CEIP Santa Juliana. \n 
URL:https://santillanadelmarturismo.com/evento/los-conciertos-de-la-villa-presentan-a-vittersweet/
CATEGORIES:Destacados,General,Turismo
ATTACH;FMTTYPE=image/jpeg:https://santillanadelmarturismo.com/wp-content/uploads/Vitter-baja-scaled.jpg
END:VEVENT
END:VCALENDAR