BEGIN:VCALENDAR
VERSION:2.0
PRODID:-//Santillana del Mar Turismo - ECPv6.15.11//NONSGML v1.0//EN
CALSCALE:GREGORIAN
METHOD:PUBLISH
X-ORIGINAL-URL:https://santillanadelmarturismo.com
X-WR-CALDESC:Eventos para Santillana del Mar Turismo
REFRESH-INTERVAL;VALUE=DURATION:PT1H
X-Robots-Tag:noindex
X-PUBLISHED-TTL:PT1H
BEGIN:VTIMEZONE
TZID:Europe/Madrid
BEGIN:DAYLIGHT
TZOFFSETFROM:+0100
TZOFFSETTO:+0200
TZNAME:CEST
DTSTART:20200329T010000
END:DAYLIGHT
BEGIN:STANDARD
TZOFFSETFROM:+0200
TZOFFSETTO:+0100
TZNAME:CET
DTSTART:20201025T010000
END:STANDARD
BEGIN:DAYLIGHT
TZOFFSETFROM:+0100
TZOFFSETTO:+0200
TZNAME:CEST
DTSTART:20210328T010000
END:DAYLIGHT
BEGIN:STANDARD
TZOFFSETFROM:+0200
TZOFFSETTO:+0100
TZNAME:CET
DTSTART:20211031T010000
END:STANDARD
BEGIN:DAYLIGHT
TZOFFSETFROM:+0100
TZOFFSETTO:+0200
TZNAME:CEST
DTSTART:20220327T010000
END:DAYLIGHT
BEGIN:STANDARD
TZOFFSETFROM:+0200
TZOFFSETTO:+0100
TZNAME:CET
DTSTART:20221030T010000
END:STANDARD
END:VTIMEZONE
BEGIN:VEVENT
DTSTART;TZID=Europe/Madrid:20210605T193000
DTEND;TZID=Europe/Madrid:20210605T203000
DTSTAMP:20260426T024725
CREATED:20210603T102804Z
LAST-MODIFIED:20210603T102804Z
UID:10265-1622921400-1622925000@santillanadelmarturismo.com
SUMMARY:Obra de Teatro 'La vida no es una comedia'
DESCRIPTION:El Museo Diocesano Regina Coeli acoge la obra de teatro ‘La vida no es una comedia’ de Trastolillo Teatro. \nLa representación será el día 5 de junio a las 19.30 horas. \nSinopsis: \nLos personajes de esta función conforman unos diálogos y monólogos llenos de ironía y diferentes entre sí\, pero en el fondo iguales\, porque cada personaje\, en su aislamiento\, nunca está solo. Como cualquier persona\, todos ellos se agarran a esa temblorosa mano\, que es la vida. \nEsta función demuestra que no hay diferencia entre los personajes y el público\, que todos tenemos nuestro espíritu bondadoso y nuestro espíritu malvado. La dualidad del ser humano sube a escena y sus actores\, cada uno a su manera y con su particular forma de entender el mundo\, nos hacen ver que la vida no es una comedia…\, ¿o quizás sí?
URL:https://santillanadelmarturismo.com/evento/obra-de-teatro-la-vida-no-es-una-comedia/
LOCATION:Capilla Museo Diocesano
CATEGORIES:Destacados,Turismo
ATTACH;FMTTYPE=image/png:https://santillanadelmarturismo.com/wp-content/uploads/OBRA-TEATRO-WEB.png
END:VEVENT
END:VCALENDAR