BEGIN:VCALENDAR
VERSION:2.0
PRODID:-//Santillana del Mar Turismo - ECPv6.15.11//NONSGML v1.0//EN
CALSCALE:GREGORIAN
METHOD:PUBLISH
X-ORIGINAL-URL:https://santillanadelmarturismo.com
X-WR-CALDESC:Eventos para Santillana del Mar Turismo
REFRESH-INTERVAL;VALUE=DURATION:PT1H
X-Robots-Tag:noindex
X-PUBLISHED-TTL:PT1H
BEGIN:VTIMEZONE
TZID:Europe/Madrid
BEGIN:DAYLIGHT
TZOFFSETFROM:+0100
TZOFFSETTO:+0200
TZNAME:CEST
DTSTART:20200329T010000
END:DAYLIGHT
BEGIN:STANDARD
TZOFFSETFROM:+0200
TZOFFSETTO:+0100
TZNAME:CET
DTSTART:20201025T010000
END:STANDARD
BEGIN:DAYLIGHT
TZOFFSETFROM:+0100
TZOFFSETTO:+0200
TZNAME:CEST
DTSTART:20210328T010000
END:DAYLIGHT
BEGIN:STANDARD
TZOFFSETFROM:+0200
TZOFFSETTO:+0100
TZNAME:CET
DTSTART:20211031T010000
END:STANDARD
BEGIN:DAYLIGHT
TZOFFSETFROM:+0100
TZOFFSETTO:+0200
TZNAME:CEST
DTSTART:20220327T010000
END:DAYLIGHT
BEGIN:STANDARD
TZOFFSETFROM:+0200
TZOFFSETTO:+0100
TZNAME:CET
DTSTART:20221030T010000
END:STANDARD
END:VTIMEZONE
BEGIN:VEVENT
DTSTART;TZID=Europe/Madrid:20210801T210000
DTEND;TZID=Europe/Madrid:20210801T223000
DTSTAMP:20260424T043030
CREATED:20210624T085735Z
LAST-MODIFIED:20210624T085735Z
UID:10348-1627851600-1627857000@santillanadelmarturismo.com
SUMMARY:Korokotta Dixie Band
DESCRIPTION:La Plaza Mayor de Santillana del Mar acogerá el 1 de agosto a las 21.00 horas la actuación de Korokotta Dixie Band. \nVarios músicos estrechamente vinculados a Cantabria deciden unir esfuerzos para invocar el viejo espíritu de Nueva Orleans en la región. Con este propósito\, recorren el mundo a bordo de trenes\, barcos y tractores sembrando la semilla del Dixieland\, un jazz arcaico\, desnudo y bailable de principios del siglo XX. El grupo sigue la formación típica de ‘marching band’ americana: potente sección de instrumentos de viento\, arropados por una arrolladora sección rítmica. Sin duda el espectáculo está servido. \nLas entradas se podrán adquirir de forma GRATUITA exclusivamente a través de la página santillanadelmareventos.es para una mayor seguridad del publico. Se respetarán las medidas de seguridad
URL:https://santillanadelmarturismo.com/evento/korokotta-dixie-band/
LOCATION:Plaza Mayor\, Plaza Mayor\, Santillana del Mar\, Cantabria\, 39330\, España
CATEGORIES:Destacados,Turismo
ATTACH;FMTTYPE=image/png:https://santillanadelmarturismo.com/wp-content/uploads/KOROKOTA.png
END:VEVENT
BEGIN:VEVENT
DTSTART;TZID=Europe/Madrid:20210806T190000
DTEND;TZID=Europe/Madrid:20210806T203000
DTSTAMP:20260424T043030
CREATED:20210624T085735Z
LAST-MODIFIED:20210624T085735Z
UID:10346-1628276400-1628281800@santillanadelmarturismo.com
SUMMARY:El Viaje de Alicia
DESCRIPTION:La Plaza Mayor de Santillana del Mar acogerá el 6 de agosto a las 19.00 horas la obra de teatro ‘El Viaje de Alicia’ de Amalgama Teatral \nEs una divertida y alocada reinterpretación del clásico cuento de Lewis Carrol. \nUna jovencita llamada Alicia\, viajará a una extraño país donde todo el mundo parece estar algo majareta. En ese extraño mundo una profecía dice que Alicia es la elegida para liberar al país de la tiranía de su malvada Reina. El destino del País del Submundo está en sus manos\, por ¿podrá Alicia derrotar a la excéntrica Reina de Corazones y salvarlos a todos? \nLas entradas se podrán adquirir de forma GRATUITA exclusivamente a través de la página santillanadelmareventos.es para una mayor seguridad del publico. Se respetarán las medidas de seguridad
URL:https://santillanadelmarturismo.com/evento/el-viaje-de-alicia/
LOCATION:Plaza Mayor\, Plaza Mayor\, Santillana del Mar\, Cantabria\, 39330\, España
CATEGORIES:Destacados,Turismo
ATTACH;FMTTYPE=image/png:https://santillanadelmarturismo.com/wp-content/uploads/EL-VIAJE-DE-ALICIA.png
END:VEVENT
BEGIN:VEVENT
DTSTART;TZID=Europe/Madrid:20210807T220000
DTEND;TZID=Europe/Madrid:20210807T233000
DTSTAMP:20260424T043030
CREATED:20210702T091908Z
LAST-MODIFIED:20210702T091908Z
UID:10365-1628373600-1628379000@santillanadelmarturismo.com
SUMMARY:Conciertos de la Villa. Malevaje
DESCRIPTION:Este año el programa de ‘Santillana al Aire’ estrena un ciclo de conciertos en la villa \nEl 7 de agosto a las 22.00 horas actúa Malevaje en la Plaza Abad Francisco Navarro \nMalevaje: Que el mundo fue y será una porquería ya lo sabían ellos. En el 84 y en el 2019\, también. Ignorantes\, sabios\, ‘chorros’\, generosos o estafadores: Malevaje lleva 35 años cantándole al ‘garufa’ y al señor. Su repertorio deglute libremente éxitos de Carlos Gardel\, Julio María Sosa o Roberto Goyeneche\, entre otras personalidades del género. Lo mezclan con un estilo propio. Inyectan una actitud chulapa\, un deje cañí\, que lo convierte en un híbrido. El resultado es un tango castizo que se expresa en lunfardo y cheli. ¿Una falta de respeto\, un atropello a la razón? Puede ser: el que no afana es un gil. “Malevaje es tango argentino\, pero lo hacemos a nuestra manera. Ahora es cuando más caminamos hacia lo ortodoxo. Al principio era algo muy nuestro\, muy roquero. Hemos ido aprendiendo y cada vez nos acercamos más al origen”\, define Antonio Bartrina (Madrid\, 1957) en la terraza del Círculo de Bellas Artes\, donde actuaron el a principios de octubre.
URL:https://santillanadelmarturismo.com/evento/conciertos-de-la-villa-malevaje/
CATEGORIES:Destacados,Turismo
ATTACH;FMTTYPE=image/png:https://santillanadelmarturismo.com/wp-content/uploads/CONCIERTOS-DE-LA-VILLA.png
END:VEVENT
BEGIN:VEVENT
DTSTART;TZID=Europe/Madrid:20210814T110000
DTEND;TZID=Europe/Madrid:20210815T210000
DTSTAMP:20260424T043030
CREATED:20210702T091908Z
LAST-MODIFIED:20210702T091908Z
UID:10370-1628938800-1629061200@santillanadelmarturismo.com
SUMMARY:Exposición de Cerámica en Santillana del Mar
DESCRIPTION:Como parte de la programación ‘Santillana al Aire’ habrá una exposición de cerámica en los soportales del Ayuntamiento. \nEstará ubicado en la Plaza Mayor los días 14 y 15 de agosto de 11.00 a 21.00 horas.
URL:https://santillanadelmarturismo.com/evento/exposicion-de-ceramica-en-santillana-del-mar/
LOCATION:Plaza Mayor\, Plaza Mayor\, Santillana del Mar\, Cantabria\, 39330\, España
CATEGORIES:Destacados,Turismo
ATTACH;FMTTYPE=image/png:https://santillanadelmarturismo.com/wp-content/uploads/EXPO-CERAMICA.png
END:VEVENT
BEGIN:VEVENT
DTSTART;TZID=Europe/Madrid:20210814T220000
DTEND;TZID=Europe/Madrid:20210814T233000
DTSTAMP:20260424T043030
CREATED:20210702T091908Z
LAST-MODIFIED:20210723T094822Z
UID:10367-1628978400-1628983800@santillanadelmarturismo.com
SUMMARY:Conciertos de la Villa. Alejandro Pelayo
DESCRIPTION:Como parte de la programación de ‘Santillana al Aire’ y en el Ciclo de conciertos de la villa actuará Alejandro Pelayo \nEl concierto es el día 8 de agosto a las 22.00 horas en la Plaza Abad Francisco Navarro \nAlejandro Pelayo: “La Herida invisible” es un disco de piano de Alejandro Pelayo\, músico cántabro conocido sobre todo por su faceta de compositor\, pianista y productor del grupo Marlango\, que lleva toda su vida ligado a la composición. \nCon este trabajo se reactiva la colección “Música para un Guateque Sideral”\, colección creada por Subterfuge Records para dar cabida a propuestas de lounge music\, jazz\, instrumentales\, bandas sonoras\, etc. en la que han publicado a Mastretta\, Penélope y Carlo\, Belmonde\, Alfonso Santisteban\, Jess Franco\, Alcohol Jazz\, Racalmuto o Damills\, entre otros. \nComenzó a estudiar piano desde muy niño y posteriormente realizó estudios superiores primero en Madrid y más tarde\, en la prestigiosa escuela neoyorquina Juilliard School. Instalado en Madrid inicia su formación en Composición y Dirección de Orquesta\, al mismo tiempo que arranca su colaboración con la actriz y cantante Leonor Watling con la que ha publicado hasta la fecha seis discos. En paralelo ha realizado numerosas incursiones como compositor en el mundo de la publicidad\, en el cine y el teatro.
URL:https://santillanadelmarturismo.com/evento/conciertos-de-la-villa-alejandro-pelayo/
CATEGORIES:Destacados,Turismo
ATTACH;FMTTYPE=image/png:https://santillanadelmarturismo.com/wp-content/uploads/CONCIERTOS-DE-LA-VILLA.png
END:VEVENT
BEGIN:VEVENT
DTSTART;TZID=Europe/Madrid:20210818T220000
DTEND;TZID=Europe/Madrid:20210818T233000
DTSTAMP:20260424T043030
CREATED:20210803T095203Z
LAST-MODIFIED:20210803T095203Z
UID:10419-1629324000-1629329400@santillanadelmarturismo.com
SUMMARY:Concierto Festival Internacional de Santander (FIS)
DESCRIPTION:Como parte de la programación ‘Santillana al Aire’ habrá un Concierto del Festival Internacional de Santander (FIS) en la villa. \nSerá el miércoles 18 de agosto a las 22.00 horas en la Colegiata de Santa Juliana. \nSe respetarán en todo momento las medidas de seguridad
URL:https://santillanadelmarturismo.com/evento/concierto-festival-internacional-de-santander-fis/
LOCATION:Colegiata de Santa Juliana\, Colegiata de Santa Juliana\, Santillana del Mar\, Cantabria\, 39330\, España
CATEGORIES:Destacados,Turismo
ATTACH;FMTTYPE=image/png:https://santillanadelmarturismo.com/wp-content/uploads/FIS.png
END:VEVENT
BEGIN:VEVENT
DTSTART;TZID=Europe/Madrid:20210820T113000
DTEND;TZID=Europe/Madrid:20210822T210000
DTSTAMP:20260424T043030
CREATED:20210816T102913Z
LAST-MODIFIED:20210819T100846Z
UID:10431-1629459000-1629666000@santillanadelmarturismo.com
SUMMARY:Festival del Tequila Santillana del Mar
DESCRIPTION:Dentro de la programación de verano ‘Santillana al Aire’ la villa acoge el Festival del Tequila \nSe celebra los días 20\, 21 y 22 de agosto en la Plaza de las Arenas \nProgramación: \nViernes 20 de agosto\n11.30 horas    Inauguración oficial del Festival en el Ayuntamiento de Santillana del Mar \n  \n17.00 horas Conferencia Palacio de los Velarde (Hasta completar aforo) \n               El concepto de Indiano. Etapas y motivaciones. Alberto Tagle \n18.00 horas Visita guiada a la villa: Casonas y palacios (Exclusivo autoridades) \n21.00 horas Concierto violinista Kamran Omarli (Palacio de los Velarde) \n\nSábado 21 de agosto\n11.00 horas Visita a la Casona Sánchez de Tagle (Exclusivo autoridades) \n  \n17.00 horas    Conferencia Palacio de los Velarde (Hasta completar aforo) \nLos indianos de Santillana.  Fco. García Mantecón. Catedrático Historia. \n  \n21.00 horas Concierto ‘Jueves de boleros’ en la Plaza Mayor (Hasta completar aforo) \n  \nDomingo 22 de agosto\n 11.00 horas    Visita guiada a la villa: Casonas y palacios (Exclusivo autoridades) \n17.00 horas Conferencia y visita al Museo Diocesano (Hasta completar aforo) \nEl arte de los indianos en Cantabria. Enrique Campuzano. Cronista oficial de la villa. \n18.30 horas Concierto ‘Grupo de Cámara’ en la Capilla Museo Diocesano  (Hasta completar aforo) \nPara la asistencia a las conferencias es necesario solicitar plaza con anterioridad. Para reservar la plaza basta con escribir un correo a infoturismo@aytosantillana.org o llamar al teléfono 663 277 637/663 277 572 \n  \n 
URL:https://santillanadelmarturismo.com/evento/festival-del-tequila-santillana-del-mar/
LOCATION:Política de privacidad
CATEGORIES:Destacados,Turismo
ATTACH;FMTTYPE=image/png:https://santillanadelmarturismo.com/wp-content/uploads/FESTIVAL-TEQUILA-WEB.png
END:VEVENT
BEGIN:VEVENT
DTSTART;TZID=Europe/Madrid:20210825T210000
DTEND;TZID=Europe/Madrid:20210825T223000
DTSTAMP:20260424T043030
CREATED:20210803T095203Z
LAST-MODIFIED:20210803T095508Z
UID:10422-1629925200-1629930600@santillanadelmarturismo.com
SUMMARY:Concierto de órgano de Joan Paradel
DESCRIPTION:Como parte de la programación ‘Santillana al Aire’ habrá un concierto de órgano de Joan Paradel\, organista del Vaticano. \nSerá el miércoles 25 de agosto a las 21.00 horas en la Colegiata de Santa Juliana \nSe respetarán en todo momento las medidas de seguridad
URL:https://santillanadelmarturismo.com/evento/concierto-de-organo-de-joan-paradel/
LOCATION:Colegiata de Santa Juliana\, Colegiata de Santa Juliana\, Santillana del Mar\, Cantabria\, 39330\, España
CATEGORIES:Destacados,Turismo
ATTACH;FMTTYPE=image/png:https://santillanadelmarturismo.com/wp-content/uploads/ORGANISTA.png
END:VEVENT
BEGIN:VEVENT
DTSTART;TZID=Europe/Madrid:20210828T220000
DTEND;TZID=Europe/Madrid:20210828T233000
DTSTAMP:20260424T043030
CREATED:20210702T091908Z
LAST-MODIFIED:20210702T091908Z
UID:10369-1630188000-1630193400@santillanadelmarturismo.com
SUMMARY:Conciertos de la Villa. Carmen Paris
DESCRIPTION:Como parte de la programación de ‘Santillana al Aire’ y en el Ciclo de conciertos de la villa actuará Carmen Paris \nEl concierto será a las 22.00 horas en la Plaza Abad Francisco Navarro \nCarmen Paris: La zaragozana CARMEN PARÍS y la marroquí (de Fez) NABYLA MAAN se conocieron entre los festivales «Pirineos Sur» de Huesca y «L’Boulevard» de Casablanca\, no había título mejor que “Dos MedinasBlancas» para este diálogo entre dos voces actuales significativas de culturas hermanas\, ibérica del Ebro (río Íber romano) y magrebí\, en el que cantan una en el repertorio de la otra\, aún sin hablar el idioma\, ofreciendo así una nueva sonoridad\, arropadas por 3 músicos españoles y 2 marroquíes que saben navegar entre las dos orillas con conocimiento y maestría en una grabación orgánica tal como fueron su convivencia de ensayos y conciertos.\nDiálogo fluido a través de la magia de la música enraizada para disolver barreras y prejuicios. Culturas entrelazadas sin perder su identidad cantando otro mundo posible.
URL:https://santillanadelmarturismo.com/evento/conciertos-de-la-villa-carmen-paris/
CATEGORIES:Destacados,Turismo
ATTACH;FMTTYPE=image/png:https://santillanadelmarturismo.com/wp-content/uploads/CONCIERTOS-DE-LA-VILLA.png
END:VEVENT
END:VCALENDAR