BEGIN:VCALENDAR
VERSION:2.0
PRODID:-//Santillana del Mar Turismo - ECPv6.15.11//NONSGML v1.0//EN
CALSCALE:GREGORIAN
METHOD:PUBLISH
X-ORIGINAL-URL:https://santillanadelmarturismo.com
X-WR-CALDESC:Eventos para Santillana del Mar Turismo
REFRESH-INTERVAL;VALUE=DURATION:PT1H
X-Robots-Tag:noindex
X-PUBLISHED-TTL:PT1H
BEGIN:VTIMEZONE
TZID:Europe/Madrid
BEGIN:DAYLIGHT
TZOFFSETFROM:+0100
TZOFFSETTO:+0200
TZNAME:CEST
DTSTART:20210328T010000
END:DAYLIGHT
BEGIN:STANDARD
TZOFFSETFROM:+0200
TZOFFSETTO:+0100
TZNAME:CET
DTSTART:20211031T010000
END:STANDARD
BEGIN:DAYLIGHT
TZOFFSETFROM:+0100
TZOFFSETTO:+0200
TZNAME:CEST
DTSTART:20220327T010000
END:DAYLIGHT
BEGIN:STANDARD
TZOFFSETFROM:+0200
TZOFFSETTO:+0100
TZNAME:CET
DTSTART:20221030T010000
END:STANDARD
BEGIN:DAYLIGHT
TZOFFSETFROM:+0100
TZOFFSETTO:+0200
TZNAME:CEST
DTSTART:20230326T010000
END:DAYLIGHT
BEGIN:STANDARD
TZOFFSETFROM:+0200
TZOFFSETTO:+0100
TZNAME:CET
DTSTART:20231029T010000
END:STANDARD
END:VTIMEZONE
BEGIN:VEVENT
DTSTART;TZID=Europe/Madrid:20220709T220000
DTEND;TZID=Europe/Madrid:20220709T233000
DTSTAMP:20260423T102619
CREATED:20220617T093548Z
LAST-MODIFIED:20220617T093548Z
UID:11342-1657404000-1657409400@santillanadelmarturismo.com
SUMMARY:Jordana B 'Ciclo de conciertos de la villa'
DESCRIPTION:Jordana B\, actuará como parte de la programación ‘Santillana al Aire’ en el ‘Ciclo de conciertos de la villa’ \nEl concierto es el sábado 9 de julio a las 22.00 horas en la Plaza Abad Francisco Navarroconcier \nEl acceso es libre y gratuito hasta completar aforo
URL:https://santillanadelmarturismo.com/evento/jordana-b-ciclo-de-conciertos-de-la-villa/
CATEGORIES:Destacados,Turismo
ATTACH;FMTTYPE=image/png:https://santillanadelmarturismo.com/wp-content/uploads/JORDANA-B-CICLO-DE-CONCIERTOS.png
END:VEVENT
BEGIN:VEVENT
DTSTART;TZID=Europe/Madrid:20220730T190000
DTEND;TZID=Europe/Madrid:20220730T203000
DTSTAMP:20260423T102619
CREATED:20220630T095726Z
LAST-MODIFIED:20220630T095726Z
UID:11352-1659207600-1659213000@santillanadelmarturismo.com
SUMMARY:Pasacalles Farándula
DESCRIPTION:Con motivo de la programación cultural de ‘Santillana al Aire’ actúa Pasacalles Farándula \nLa actividad se desarrollará por las calles de la villa el 30 de julio a partir de las 19.00 horas.
URL:https://santillanadelmarturismo.com/evento/pasacalles-farandula/
LOCATION:lavuelta_2018
CATEGORIES:Destacados,Turismo
ATTACH;FMTTYPE=image/png:https://santillanadelmarturismo.com/wp-content/uploads/PASACALLES-FARANDULA.png
END:VEVENT
END:VCALENDAR