BEGIN:VCALENDAR
VERSION:2.0
PRODID:-//Santillana del Mar Turismo - ECPv6.15.11//NONSGML v1.0//EN
CALSCALE:GREGORIAN
METHOD:PUBLISH
X-ORIGINAL-URL:https://santillanadelmarturismo.com
X-WR-CALDESC:Eventos para Santillana del Mar Turismo
REFRESH-INTERVAL;VALUE=DURATION:PT1H
X-Robots-Tag:noindex
X-PUBLISHED-TTL:PT1H
BEGIN:VTIMEZONE
TZID:Europe/Madrid
BEGIN:DAYLIGHT
TZOFFSETFROM:+0100
TZOFFSETTO:+0200
TZNAME:CEST
DTSTART:20210328T010000
END:DAYLIGHT
BEGIN:STANDARD
TZOFFSETFROM:+0200
TZOFFSETTO:+0100
TZNAME:CET
DTSTART:20211031T010000
END:STANDARD
BEGIN:DAYLIGHT
TZOFFSETFROM:+0100
TZOFFSETTO:+0200
TZNAME:CEST
DTSTART:20220327T010000
END:DAYLIGHT
BEGIN:STANDARD
TZOFFSETFROM:+0200
TZOFFSETTO:+0100
TZNAME:CET
DTSTART:20221030T010000
END:STANDARD
BEGIN:DAYLIGHT
TZOFFSETFROM:+0100
TZOFFSETTO:+0200
TZNAME:CEST
DTSTART:20230326T010000
END:DAYLIGHT
BEGIN:STANDARD
TZOFFSETFROM:+0200
TZOFFSETTO:+0100
TZNAME:CET
DTSTART:20231029T010000
END:STANDARD
END:VTIMEZONE
BEGIN:VEVENT
DTSTART;TZID=Europe/Madrid:20220813T220000
DTEND;TZID=Europe/Madrid:20220813T233000
DTSTAMP:20260423T085048
CREATED:20220630T103135Z
LAST-MODIFIED:20220630T103135Z
UID:11356-1660428000-1660433400@santillanadelmarturismo.com
SUMMARY:Danzas de Ubiarco
DESCRIPTION:Con motivo de la programación ‘Santillana al Aire’ actúan las Danzas de Ubiarco. \nSerá el 13 de agosto a las 22.00 horas en la Plaza Mayor. \nLa entrada es libre y gratuita hasta completar aforo.
URL:https://santillanadelmarturismo.com/evento/danzas-de-ubiarco/
LOCATION:Plaza Mayor\, Plaza Mayor\, Santillana del Mar\, Cantabria\, 39330\, España
CATEGORIES:Destacados,Turismo
ATTACH;FMTTYPE=image/png:https://santillanadelmarturismo.com/wp-content/uploads/DANZAS-DE-UBIARCO-WEB.png
END:VEVENT
END:VCALENDAR