BEGIN:VCALENDAR
VERSION:2.0
PRODID:-//Santillana del Mar Turismo - ECPv6.15.11//NONSGML v1.0//EN
CALSCALE:GREGORIAN
METHOD:PUBLISH
X-ORIGINAL-URL:https://santillanadelmarturismo.com
X-WR-CALDESC:Eventos para Santillana del Mar Turismo
REFRESH-INTERVAL;VALUE=DURATION:PT1H
X-Robots-Tag:noindex
X-PUBLISHED-TTL:PT1H
BEGIN:VTIMEZONE
TZID:Europe/Madrid
BEGIN:DAYLIGHT
TZOFFSETFROM:+0100
TZOFFSETTO:+0200
TZNAME:CEST
DTSTART:20230326T010000
END:DAYLIGHT
BEGIN:STANDARD
TZOFFSETFROM:+0200
TZOFFSETTO:+0100
TZNAME:CET
DTSTART:20231029T010000
END:STANDARD
BEGIN:DAYLIGHT
TZOFFSETFROM:+0100
TZOFFSETTO:+0200
TZNAME:CEST
DTSTART:20240331T010000
END:DAYLIGHT
BEGIN:STANDARD
TZOFFSETFROM:+0200
TZOFFSETTO:+0100
TZNAME:CET
DTSTART:20241027T010000
END:STANDARD
BEGIN:DAYLIGHT
TZOFFSETFROM:+0100
TZOFFSETTO:+0200
TZNAME:CEST
DTSTART:20250330T010000
END:DAYLIGHT
BEGIN:STANDARD
TZOFFSETFROM:+0200
TZOFFSETTO:+0100
TZNAME:CET
DTSTART:20251026T010000
END:STANDARD
END:VTIMEZONE
BEGIN:VEVENT
DTSTART;VALUE=DATE:20240706
DTEND;VALUE=DATE:20240923
DTSTAMP:20260421T141003
CREATED:20240705T093138Z
LAST-MODIFIED:20240705T093138Z
UID:11996-1720224000-1727049599@santillanadelmarturismo.com
SUMMARY:Festival 'Santillana al aire'
DESCRIPTION:Este 6 de julio y hasta el próximo 22 de septiembre se celebrará el festival ‘Santillana al aire 2024’. Como siempre\, todas  las actividades serán gratuitas y estas incluyen espectáculos musicales\, audiovisuales\, artísticos e incluso de magia.\n\n\nEstos se realizarán en diferentes puntos de la villa tales que la Plaza Mayor\, la Colegiata o el Museo Jesús Otero para adornar con los mejores escenarios cada una de las actuaciones.
URL:https://santillanadelmarturismo.com/evento/festival-santillana-al-aire/
CATEGORIES:Destacados,General,Turismo
ATTACH;FMTTYPE=image/jpeg:https://santillanadelmarturismo.com/wp-content/uploads/Cartel-vacaciones-de-verano-fotografico-promocional-azul2-1.jpg
END:VEVENT
BEGIN:VEVENT
DTSTART;VALUE=DATE:20240727
DTEND;VALUE=DATE:20240728
DTSTAMP:20260421T141003
CREATED:20240724T111657Z
LAST-MODIFIED:20240724T111657Z
UID:12008-1722038400-1722124799@santillanadelmarturismo.com
SUMMARY:Proyección del cortometraje 'Rurales se expande'
DESCRIPTION:Este sábado\, dentro del ciclo ‘Santillana al aire’ llega a nuestra villa ‘Rurales se expande’\, una muestra de los trabajos audiovisuales ganadores de las dos primeras ediciones de Festival de Cine y Cortometraje en el Medio Rural y Natural ‘Rurales’ y del cortometraje ‘Tres palabras’ de Sara Fortuna.\n\n\n\nEsta propuesta se encuentra dentro de ‘Cultura expandida’\, uno de los programas que desarrolla la Consejería de Cultura\, Turismo y Deporte para apoyar a los profesionales del ámbito cultural de la comunidad autónoma y para hacer llegar a otras zonas rurales de Cantabria estos trabajos cinematográficos.\n\n\n\nAsí\, este sábado 27 de julio a partir de las 22.00 horas el Museo Jesús Otero abrirá sus puertas para que todos los vecinos y visitantes que lo deseen se empapen de cultura con un enfoque muy rural y muy de nuestra tierra.
URL:https://santillanadelmarturismo.com/evento/proyeccion-del-cortometraje-rurales-se-expande/
CATEGORIES:Cultura,Destacados,General
ATTACH;FMTTYPE=image/jpeg:https://santillanadelmarturismo.com/wp-content/uploads/451799043_992228146235567_8657333273013319522_n.jpg
END:VEVENT
BEGIN:VEVENT
DTSTART;VALUE=DATE:20240728
DTEND;VALUE=DATE:20240729
DTSTAMP:20260421T141003
CREATED:20240724T112402Z
LAST-MODIFIED:20240724T112402Z
UID:12012-1722124800-1722211199@santillanadelmarturismo.com
SUMMARY:Espectáculo familiar 'Chin y cheta\, exploradores de biblioteca'
DESCRIPTION:El domingo los más peques podrán disfrutar de ‘Chin y cheta\, exploradores de biblioteca’\, un espectáculo familiar de ‘Kaskabel y Cía’.\n\n\n\nEsta representación forma parte del circuito ‘Territorio’ promovido por la Consejería de Cultura\, Turismo y Deporte\, y también se encuentra dentro de la programación del ciclo ‘Santillana al aire’.\n\n\n\nLa actividad se podrá disfrutar este 28 de julio a partir de las 18.00 horas en la Plaza Mayor de Santillana del Mar.
URL:https://santillanadelmarturismo.com/evento/espectaculo-familiar-chin-y-cheta-exploradores-de-biblioteca/
ATTACH;FMTTYPE=image/jpeg:https://santillanadelmarturismo.com/wp-content/uploads/IMG-20240508-WA0045.jpg
END:VEVENT
END:VCALENDAR