BEGIN:VCALENDAR
VERSION:2.0
PRODID:-//Santillana del Mar Turismo - ECPv6.15.11//NONSGML v1.0//EN
CALSCALE:GREGORIAN
METHOD:PUBLISH
X-ORIGINAL-URL:https://santillanadelmarturismo.com
X-WR-CALDESC:Eventos para Santillana del Mar Turismo
REFRESH-INTERVAL;VALUE=DURATION:PT1H
X-Robots-Tag:noindex
X-PUBLISHED-TTL:PT1H
BEGIN:VTIMEZONE
TZID:Europe/Madrid
BEGIN:DAYLIGHT
TZOFFSETFROM:+0100
TZOFFSETTO:+0200
TZNAME:CEST
DTSTART:20230326T010000
END:DAYLIGHT
BEGIN:STANDARD
TZOFFSETFROM:+0200
TZOFFSETTO:+0100
TZNAME:CET
DTSTART:20231029T010000
END:STANDARD
BEGIN:DAYLIGHT
TZOFFSETFROM:+0100
TZOFFSETTO:+0200
TZNAME:CEST
DTSTART:20240331T010000
END:DAYLIGHT
BEGIN:STANDARD
TZOFFSETFROM:+0200
TZOFFSETTO:+0100
TZNAME:CET
DTSTART:20241027T010000
END:STANDARD
BEGIN:DAYLIGHT
TZOFFSETFROM:+0100
TZOFFSETTO:+0200
TZNAME:CEST
DTSTART:20250330T010000
END:DAYLIGHT
BEGIN:STANDARD
TZOFFSETFROM:+0200
TZOFFSETTO:+0100
TZNAME:CET
DTSTART:20251026T010000
END:STANDARD
END:VTIMEZONE
BEGIN:VEVENT
DTSTART;VALUE=DATE:20240706
DTEND;VALUE=DATE:20240923
DTSTAMP:20260421T123507
CREATED:20240705T093138Z
LAST-MODIFIED:20240705T093138Z
UID:11996-1720224000-1727049599@santillanadelmarturismo.com
SUMMARY:Festival 'Santillana al aire'
DESCRIPTION:Este 6 de julio y hasta el próximo 22 de septiembre se celebrará el festival ‘Santillana al aire 2024’. Como siempre\, todas  las actividades serán gratuitas y estas incluyen espectáculos musicales\, audiovisuales\, artísticos e incluso de magia.\n\n\nEstos se realizarán en diferentes puntos de la villa tales que la Plaza Mayor\, la Colegiata o el Museo Jesús Otero para adornar con los mejores escenarios cada una de las actuaciones.
URL:https://santillanadelmarturismo.com/evento/festival-santillana-al-aire/
CATEGORIES:Destacados,General,Turismo
ATTACH;FMTTYPE=image/jpeg:https://santillanadelmarturismo.com/wp-content/uploads/Cartel-vacaciones-de-verano-fotografico-promocional-azul2-1.jpg
END:VEVENT
END:VCALENDAR