BEGIN:VCALENDAR
VERSION:2.0
PRODID:-//Santillana del Mar Turismo - ECPv6.15.11//NONSGML v1.0//EN
CALSCALE:GREGORIAN
METHOD:PUBLISH
X-WR-CALNAME:Santillana del Mar Turismo
X-ORIGINAL-URL:https://santillanadelmarturismo.com
X-WR-CALDESC:Eventos para Santillana del Mar Turismo
REFRESH-INTERVAL;VALUE=DURATION:PT1H
X-Robots-Tag:noindex
X-PUBLISHED-TTL:PT1H
BEGIN:VTIMEZONE
TZID:Europe/Madrid
BEGIN:DAYLIGHT
TZOFFSETFROM:+0100
TZOFFSETTO:+0200
TZNAME:CEST
DTSTART:20180325T010000
END:DAYLIGHT
BEGIN:STANDARD
TZOFFSETFROM:+0200
TZOFFSETTO:+0100
TZNAME:CET
DTSTART:20181028T010000
END:STANDARD
BEGIN:DAYLIGHT
TZOFFSETFROM:+0100
TZOFFSETTO:+0200
TZNAME:CEST
DTSTART:20190331T010000
END:DAYLIGHT
BEGIN:STANDARD
TZOFFSETFROM:+0200
TZOFFSETTO:+0100
TZNAME:CET
DTSTART:20191027T010000
END:STANDARD
BEGIN:DAYLIGHT
TZOFFSETFROM:+0100
TZOFFSETTO:+0200
TZNAME:CEST
DTSTART:20200329T010000
END:DAYLIGHT
BEGIN:STANDARD
TZOFFSETFROM:+0200
TZOFFSETTO:+0100
TZNAME:CET
DTSTART:20201025T010000
END:STANDARD
END:VTIMEZONE
BEGIN:VEVENT
DTSTART;TZID=Europe/Madrid:20191116T190000
DTEND;TZID=Europe/Madrid:20191116T200000
DTSTAMP:20260425T203216
CREATED:20191105T182001Z
LAST-MODIFIED:20191105T182001Z
UID:7494-1573930800-1573934400@santillanadelmarturismo.com
SUMMARY:Filmoteca Cantabria 'Varados'
DESCRIPTION:La Filmoteca Cantabria ofrecerá el sábado 16 de noviembre a las 19.00 horas en el Museo Jesús Otero la película ‘Varados’ de Elena Taberna
URL:https://santillanadelmarturismo.com/evento/filmoteca-cantabria-varados/
LOCATION:Museo Jesús Otero\, Plaza Abad Francisco Navarro\, S/N\, 39330 Santillana del Mar\, Cantabria\, Santillana del Mar\, Cantabria\, 39330\, España
CATEGORIES:Destacados,Turismo
ATTACH;FMTTYPE=image/png:https://santillanadelmarturismo.com/wp-content/uploads/Diseño-sin-título4.png
END:VEVENT
END:VCALENDAR